BEGIN:VCALENDAR
VERSION:2.0
PRODID:SoDel
X-WR-CALNAME:Welcome Home: The Legacy of Carole King with Michelle Foster 
 – MATINEE
BEGIN:VEVENT
UID:340072026-03-21
DTSTART:20260321T233000Z
SEQUENCE:0
TRANSP:OPAQUE
DTEND:20260321T040000Z
LOCATION:110 Union Street\nMilton DE 19968
X-APPLE-STRUCTURED-LOCATION;VALUE=URI;X-ADDRESS=110 Union Street\nMilton DE
  19968;X-APPLE-RADIUS=49;X-TITLE=110 Union Street:geo:38.778233,-75.310919
GEO:38.778233;-75.310919
SUMMARY:Welcome Home: The Legacy of Carole King with Michelle Foster – MA
 TINEE
CLASS:PUBLIC
DESCRIPTION:Embrace the musical nostalgia of the legendary Carole King in M
 ichelle\nFoster’s captivating\, vibrant journey through over 25 unforget
 table\nhits! Accompanied by a stellar ensemble of musicians\, celebrated\n
 international vocalist Michelle Foster offers an incomparable homage\nto t
 he greatest female songwriter of all time. Join us for an\nunforgettable e
 vening of music and memories\, where you’ll rediscover\nthe magic of Car
 ole King’s music and sing along to every cherished\ntune. Don’t miss o
 ut on this exhilarating celebration that resonates\nwith audiences of all 
 ages! Venue: Milton Theatre.
X-ALT-DESC;FMTTYPE=text/html:Embrace the musical nostalgia of the legendary
  Carole King in Michelle Foster’s captivating\, vibrant journey through 
 over 25 unforgettable hits! Accompanied by a stellar ensemble of musicians
 \, celebrated international vocalist Michelle Foster offers an incomparabl
 e homage to the greatest female songwriter of all time. Join us for an unf
 orgettable evening of music and memories\, where you’ll rediscover the m
 agic of Carole King’s music and sing along to every cherished tune. Don
 ’t miss out on this exhilarating celebration that resonates with audienc
 es of all ages! Venue: Milton Theatre.
DTSTAMP:20260421T083406Z
END:VEVENT
END:VCALENDAR