BEGIN:VCALENDAR
VERSION:2.0
PRODID:SoDel
X-WR-CALNAME:We Three Queens: A Holiday Drag Show
BEGIN:VEVENT
UID:81592021-12-10
DTSTART:20211211T010000Z
SEQUENCE:0
TRANSP:OPAQUE
DTEND:20211210T050000Z
LOCATION:110 Union Street\nMilton Delaware 19968
X-APPLE-STRUCTURED-LOCATION;VALUE=URI;X-ADDRESS=110 Union Street\nMilton De
 laware 19968;X-APPLE-RADIUS=49;X-TITLE=110 Union Street:geo:38.778233,-75.
 310919
GEO:38.778233;-75.310919
SUMMARY:We Three Queens: A Holiday Drag Show
CLASS:PUBLIC
DESCRIPTION:MAGNOLIA APPLEBOTTOM IS RETURNING TO THE HISTORIC MILTON THEATR
 E WITH\nANOTHER FESTIVE DRAG SHOW FOR THE HOLIDAY SEASON!\n\nABOUT THIS EV
 ENT\n\nABOUT MAGNOLIA APPLEBOTTOM\n\nFacebook [https://www.facebook.com/Ma
 gnoliaApplebottom/]\n\nMagnolia Applebottom is a world class cabaret perfo
 rmer from Jackson\,\nMississippi. Mrs. Applebottom is a mid-life crisis at
  its finest.\nShe's kooky\, she's cool\, she barley finished school but sh
 e knows how\nto put a smile on any face. Even those with a cleft lip. So l
 ike her\npage and share her antics with your friends. Maybe go to a Magnol
 ia\nApplebottom show!\n
X-ALT-DESC;FMTTYPE=text/html:<p><strong>Magnolia Applebottom is returning t
 o the historic Milton Theatre with another festive drag show for the holid
 ay season!</strong></p>\n\n<h2>About this event</h2>\n\n<h2>About Magnolia
  Applebottom</h2>\n\n<p><a href=\"https://www.facebook.com/MagnoliaApplebo
 ttom/\" rel=\"nofollow noopener noreferrer\" target=\"_blank\">Facebook</a
 ></p>\n\n<p>Magnolia Applebottom is a world class cabaret performer from J
 ackson\, Mississippi. Mrs. Applebottom is a mid-life crisis at its finest.
  She&#39\;s kooky\, she&#39\;s cool\, she barley finished school but she k
 nows how to put a smile on any face. Even those with a cleft lip. So like 
 her page and share her antics with your friends. Maybe go to a Magnolia Ap
 plebottom show!</p>
DTSTAMP:20260423T165303Z
END:VEVENT
END:VCALENDAR