BEGIN:VCALENDAR
VERSION:2.0
PRODID:SoDel
X-WR-CALNAME:Victorian First Fridays at The Lewes Historical Society
BEGIN:VEVENT
UID:66962021-10-01
DTSTART:20211001T170000Z
SEQUENCE:0
TRANSP:OPAQUE
DTEND:20211001T040000Z
LOCATION:101 Adams Avenue\nLewes Delaware 19958
X-APPLE-STRUCTURED-LOCATION;VALUE=URI;X-ADDRESS=101 Adams Avenue\nLewes Del
 aware 19958;X-APPLE-RADIUS=49;X-TITLE=101 Adams Avenue:geo:38.767723,-75.1
 41747
GEO:38.767723;-75.141747
SUMMARY:Victorian First Fridays at The Lewes Historical Society
CLASS:PUBLIC
DESCRIPTION: \n\n_LOCATION: LEWES HISTORY MUSEUM\, 101 ADAMS AVENUE\, LEWE
 S\, DE_\n\n_FIRST FRIDAY OF EACH MONTH\, MARCH THROUGH OCTOBER 2021_\n\nEx
 plore the Victorian era at the Lewes History Museum through museum\nexhibi
 ts\, artifacts\, and historic interpreters. Monthly topics will\nfocus on 
 Lewes during the second half of the nineteenth century.\n\nAdmittance to e
 ach program is included with admission to the museum.\nThese programs will
  be offered in-person (Covid permitting) as well as\ndigitally.\n
X-ALT-DESC;FMTTYPE=text/html:<h4>&nbsp\;</h4>\n\n<p><em><strong>Location: L
 ewes History Museum\, 101 Adams Avenue\, Lewes\, DE</strong></em></p>\n\n<
 p><em><strong>First Friday of each month\, March through October 2021</str
 ong></em></p>\n\n<p>Explore the Victorian era at the Lewes History Museum 
 through museum exhibits\, artifacts\, and historic interpreters. Monthly t
 opics will focus on Lewes during the second half of the nineteenth century
 .<br />\n<br />\nAdmittance to each program is included with admission to 
 the museum. These programs will be offered in-person (Covid permitting) as
  well as digitally.</p>
DTSTAMP:20260425T025526Z
END:VEVENT
END:VCALENDAR