BEGIN:VCALENDAR
VERSION:2.0
PRODID:SoDel
X-WR-CALNAME:URGENT – Foreigner Tribute Band
BEGIN:VEVENT
UID:339332026-03-15
DTSTART:20260315T233000Z
SEQUENCE:0
TRANSP:OPAQUE
DTEND:20260315T040000Z
LOCATION:110 Union Street\nMilton DE 19968
X-APPLE-STRUCTURED-LOCATION;VALUE=URI;X-ADDRESS=110 Union Street\nMilton DE
  19968;X-APPLE-RADIUS=49;X-TITLE=110 Union Street:geo:38.778233,-75.310919
GEO:38.778233;-75.310919
SUMMARY:URGENT – Foreigner Tribute Band
CLASS:PUBLIC
DESCRIPTION:“The Definitive Foreigner Tribute” band! Their electrifying
 \nperformances capture the essence of the legendary band Foreigner\ndelive
 ring their iconic hits with precision and passion. Experience\nthe songs y
 ou know including “Feels Like the First Time” “Cold\nAs Ice” “Ju
 ke Box Hero” “I Want to Know What Love Is\, “and\nmany others in a h
 it packed show. The seasoned musicians of\nUrgent-Tribute to Foreigner bri
 ng Foreigner’s timeless music to\nlife\, ensuring an unforgettable exper
 ience for fans of all ages.\nVenue: Milton Theatre.
X-ALT-DESC;FMTTYPE=text/html:“The Definitive Foreigner Tribute” band! T
 heir electrifying performances capture the essence of the legendary band F
 oreigner delivering their iconic hits with precision and passion. Experien
 ce the songs you know including “Feels Like the First Time” “Cold As
  Ice” “Juke Box Hero” “I Want to Know What Love Is\, “and many o
 thers in a hit packed show. The seasoned musicians of Urgent-Tribute to Fo
 reigner bring Foreigner’s timeless music to life\, ensuring an unforgett
 able experience for fans of all ages. Venue: Milton Theatre.
DTSTAMP:20260421T102654Z
END:VEVENT
END:VCALENDAR