BEGIN:VCALENDAR
VERSION:2.0
PRODID:SoDel
X-WR-CALNAME:The Waddington Brothers
BEGIN:VEVENT
UID:274592025-11-10
DTSTART:20251111T003000Z
SEQUENCE:0
TRANSP:OPAQUE
DTEND:20251110T050000Z
SUMMARY:The Waddington Brothers
CLASS:PUBLIC
DESCRIPTION:A band of four brothers from rural North Dakota\, perform what 
 they\nlive:  music that is real to them\, that takes listeners on a journ
 ey\nthrough the heart of the American West.  Seth\, Ethan \,Jacob and Job
 \nskillfully blend cowboy and bluegrass music\, creating a style that is\n
 timelessly classic and yet refreshingly new and unique.  Their rich\,\nst
 irring harmonies and instrumental versatility bring familiar\nfavorites li
 ke \"Old Home Town\"\, \"Less Traveled Road\"\, and \"Red River\nValley\" 
 to life in a way that is entertaining and engaging for\naudiences of all a
 ges! \".........world-class musician who connect with\ntheir audiences and
  bring sheer joy to those in attendance.\" - Michael\nBurgraff\, Fergus Fa
 lls Center for the Arts Venue: Seaford Senior High\nSchool. Presenter: Sea
 ford Community Concert Association.
X-ALT-DESC;FMTTYPE=text/html:A band of four brothers from rural North Dakot
 a\, perform what they live:  music that is real to them\, that takes list
 eners on a journey through the heart of the American West.  Seth\, Ethan 
 \,Jacob and Job skillfully blend cowboy and bluegrass music\, creating a s
 tyle that is timelessly classic and yet refreshingly new and unique.  The
 ir rich\, stirring harmonies and instrumental versatility bring familiar f
 avorites like \"Old Home Town\"\, \"Less Traveled Road\"\, and \"Red River
  Valley\" to life in a way that is entertaining and engaging for audiences
  of all ages! \".........world-class musician who connect with their audie
 nces and bring sheer joy to those in attendance.\" - Michael Burgraff\, Fe
 rgus Falls Center for the Arts Venue: Seaford Senior High School. Presente
 r: Seaford Community Concert Association.
DTSTAMP:20260420T091403Z
END:VEVENT
END:VCALENDAR