BEGIN:VCALENDAR
VERSION:2.0
PRODID:SoDel
X-WR-CALNAME:The Inspection
BEGIN:VEVENT
UID:158312023-01-13
DTSTART;VALUE=DATE:20230113
SEQUENCE:0
TRANSP:OPAQUE
DTEND;VALUE=DATE:20230114
LOCATION:17701 Dartmouth Drive\nLewes DE 19958
X-APPLE-STRUCTURED-LOCATION;VALUE=URI;X-ADDRESS=17701 Dartmouth Drive\nLewe
 s DE 19958;X-APPLE-RADIUS=49;X-TITLE=17701 Dartmouth Drive:geo:38.743494,-
 75.154283
GEO:38.743494;-75.154283
SUMMARY:The Inspection
CLASS:PUBLIC
DESCRIPTION:The Inspection is a deeply moving drama based on a true story a
 bout a\ntroubled man that discovers how truly strong he really is. In Eleg
 ance\nBratton’s film inspired by his own story\, a young\, gay Black man
 \n(Jeremy Pope)\, rejected by his mother (Gabrielle Union) and with few\no
 ptions for his future\, decides to join the Marines\, doing whatever it\nt
 akes to succeed in a system that would cast him aside. But even as he\nbat
 tles deep-seeded prejudice and the grueling routines of basic\ntraining\, 
 he finds unexpected camaraderie\, strength\, and support in\nthis new comm
 unity\, giving him a hard-earned sense of belonging that\nwill shape his i
 dentity and forever change his life. [2022\, US\, 95\nmin\, Rating: R] The
 lma Adams of AARP Movies for Grownups writes\,\n“Observant\, insistent a
 nd unsparing\, wrapped around characters that\nfeel real and rounded.” V
 enue: Cinema Art Theater. Presenter:\nRehoboth Beach Film Society.
X-ALT-DESC;FMTTYPE=text/html:The Inspection is a deeply moving drama based 
 on a true story about a troubled man that discovers how truly strong he re
 ally is. In Elegance Bratton’s film inspired by his own story\, a young\
 , gay Black man (Jeremy Pope)\, rejected by his mother (Gabrielle Union) a
 nd with few options for his future\, decides to join the Marines\, doing w
 hatever it takes to succeed in a system that would cast him aside. But eve
 n as he battles deep-seeded prejudice and the grueling routines of basic t
 raining\, he finds unexpected camaraderie\, strength\, and support in this
  new community\, giving him a hard-earned sense of belonging that will sha
 pe his identity and forever change his life. [2022\, US\, 95 min\, Rating:
  R] Thelma Adams of AARP Movies for Grownups writes\, “Observant\, insis
 tent and unsparing\, wrapped around characters that feel real and rounded.
 ” Venue: Cinema Art Theater. Presenter: Rehoboth Beach Film Society.
X-MICROSOFT-CDO-ALLDAYEVENT:TRUE
DTSTAMP:20260420T033803Z
END:VEVENT
END:VCALENDAR