BEGIN:VCALENDAR
VERSION:2.0
PRODID:SoDel
X-WR-CALNAME:Stars and Stripes 2025!
BEGIN:VEVENT
UID:273112025-06-28
DTSTART;VALUE=DATE:20250628
SEQUENCE:0
TRANSP:OPAQUE
DTEND;VALUE=DATE:20250629
LOCATION:262 West State Street\nMillsboro Delaware 19966
X-APPLE-STRUCTURED-LOCATION;VALUE=URI;X-ADDRESS=262 West State Street\nMill
 sboro Delaware 19966;X-APPLE-RADIUS=49;X-TITLE=262 West State Street:geo:3
 8.592466,-75.296258
GEO:38.592466;-75.296258
SUMMARY:Stars and Stripes 2025!
CLASS:PUBLIC
DESCRIPTION:Fireworks\, food trucks\, vendors and a fun DJ!\n
X-ALT-DESC;FMTTYPE=text/html:<p>Fireworks\, food trucks\, vendors and a fun
  DJ!</p>
X-MICROSOFT-CDO-ALLDAYEVENT:TRUE
DTSTAMP:20260422T092559Z
END:VEVENT
END:VCALENDAR