BEGIN:VCALENDAR
VERSION:2.0
PRODID:SoDel
X-WR-CALNAME:Soaring: Rising on the Wings of Sound
BEGIN:VEVENT
UID:345352026-03-15
DTSTART:20260315T190000Z
SEQUENCE:0
TRANSP:OPAQUE
DTEND:20260315T203000Z
LOCATION:19285 Holland Glade Road\nRehoboth Beach Delaware 19971
X-APPLE-STRUCTURED-LOCATION;VALUE=URI;X-ADDRESS=19285 Holland Glade Road\nR
 ehoboth Beach Delaware 19971;X-APPLE-RADIUS=49;X-TITLE=19285 Holland Glade
  Road:geo:38.719044,-75.106979
GEO:38.719044;-75.106979
SUMMARY:Soaring: Rising on the Wings of Sound
CLASS:PUBLIC
DESCRIPTION:Rehoboth Concert Band will present its annual Spring concert Ma
 rch 15\,\n2026\, at the Epworth United Methodist Church in Rehoboth Beach 
 (19285\nHolland Glade Rd\, Rehoboth Beach\, DE). Concert time is 3:00 pm.\
 nEntitled “Soaring\; Rising on the Wings of Sound\,” the performance\n
 is a benefit to raise funds for the Cape Henlopen Senior Center. Music\nDi
 rector Steven Kieley invites audiences to “come experience an\ninspiring
  program of music that lifts the spirit while supporting\nprograms that en
 hance the lives of local seniors. Join us for an\nafternoon where soaring 
 melodies meet a meaningful cause.”\n\nWith a growing audience\, tickets 
 will be at a premium and RCB suggests\npurchasing them in advance. Advance
  tickets can be purchased at the\nRCB website and at the Cape Henlopen Sen
 ior Center (11 Christian\nStreet\, Rehoboth Beach)\, or by cash at the doo
 r\, if available.\n
X-ALT-DESC;FMTTYPE=text/html:<p>Rehoboth Concert Band will present its annu
 al Spring concert March 15\, 2026\, at the Epworth United Methodist Church
  in Rehoboth Beach (19285 Holland Glade Rd\, Rehoboth Beach\, DE). Concert
  time is 3:00 pm. Entitled &ldquo\;Soaring\; Rising on the Wings of Sound\
 ,&rdquo\; the performance is a benefit to raise funds for the Cape Henlope
 n Senior Center. Music Director Steven Kieley invites audiences to &ldquo\
 ;come experience an inspiring program of music that lifts the spirit while
  supporting programs that enhance the lives of local seniors. Join us for 
 an afternoon where soaring melodies meet a meaningful cause.&rdquo\;<br />
 \n<br />\nWith a growing audience\, tickets will be at a premium and RCB s
 uggests purchasing them in advance. Advance tickets can be purchased at th
 e RCB website and at the Cape Henlopen Senior Center (11 Christian Street\
 , Rehoboth Beach)\, or by cash at the door\, if available.</p>
DTSTAMP:20260421T102818Z
END:VEVENT
END:VCALENDAR