BEGIN:VCALENDAR
VERSION:2.0
PRODID:SoDel
X-WR-CALNAME:Sing Out Loud: A Tribute To Christine Havrilla
BEGIN:VEVENT
UID:326222026-03-01
DTSTART:20260302T003000Z
SEQUENCE:0
TRANSP:OPAQUE
DTEND:20260301T050000Z
LOCATION:110 Union Street\nMilton DE 19968
X-APPLE-STRUCTURED-LOCATION;VALUE=URI;X-ADDRESS=110 Union Street\nMilton DE
  19968;X-APPLE-RADIUS=49;X-TITLE=110 Union Street:geo:38.778233,-75.310919
GEO:38.778233;-75.310919
SUMMARY:Sing Out Loud: A Tribute To Christine Havrilla
CLASS:PUBLIC
DESCRIPTION:Join us at the Milton Theatre for a moving and joy-filled eveni
 ng\ncelebrating the life\, music\, and legacy of Christine Havrilla — th
 e\nbeloved singer-songwriter whose talent\, energy\, and spirit inspired\n
 countless fans and fellow musicians. Christine’s band\, Gypsy Fuzz\,\nwi
 ll headline the night\, performing her most beloved songs and deep\ncuts t
 hat defined her signature “neofunkadelic folk pop twang\nrock” sound. 
 They’ll be joined on stage by a lineup of “Friends\nof Christine” 
 — talented artists and collaborators who shared the\nstage and the studi
 o with her over the years — coming together to\nhonor her unforgettable 
 artistry and the joy she brought to every\nperformance. Expect a night fil
 led with heart\, harmony\, and community\n— a true reflection of Christi
 ne’s legacy. From soulful ballads to\nfoot-stomping anthems\, every note
  will celebrate the light she shared\nwith the world and the family she bu
 ilt through her music. Let’s\ncome together to sing\, remember\, and cel
 ebrate the incomparable\nChristine Havrilla.   Venue: Milton Theatre.
X-ALT-DESC;FMTTYPE=text/html:Join us at the Milton Theatre for a moving and
  joy-filled evening celebrating the life\, music\, and legacy of Christine
  Havrilla — the beloved singer-songwriter whose talent\, energy\, and sp
 irit inspired countless fans and fellow musicians. Christine’s band\, Gy
 psy Fuzz\, will headline the night\, performing her most beloved songs and
  deep cuts that defined her signature “neofunkadelic folk pop twang rock
 ” sound. They’ll be joined on stage by a lineup of “Friends of Chris
 tine” — talented artists and collaborators who shared the stage and th
 e studio with her over the years — coming together to honor her unforget
 table artistry and the joy she brought to every performance. Expect a nigh
 t filled with heart\, harmony\, and community — a true reflection of Chr
 istine’s legacy. From soulful ballads to foot-stomping anthems\, every n
 ote will celebrate the light she shared with the world and the family she 
 built through her music. Let’s come together to sing\, remember\, and ce
 lebrate the incomparable Christine Havrilla.   Venue: Milton Theatre.
DTSTAMP:20260419T122640Z
END:VEVENT
END:VCALENDAR