BEGIN:VCALENDAR
VERSION:2.0
PRODID:SoDel
X-WR-CALNAME:Seaford Christmas Parade
BEGIN:VEVENT
UID:156422022-12-03
DTSTART:20221204T000000Z
SEQUENCE:0
TRANSP:OPAQUE
DTEND:20221203T050000Z
SUMMARY:Seaford Christmas Parade
CLASS:PUBLIC
DESCRIPTION:The 2022 Seaford Christmas Parade is on for Saturday\, December
  3rd at\n7 p.m.! The theme this year is Frosty the Snowman. The rain date 
 for\nthe parade will be Sunday\, December 4th at 7 p.m.\n
X-ALT-DESC;FMTTYPE=text/html:<p>The 2022 Seaford Christmas Parade is on for
  Saturday\, December 3rd at 7 p.m.! The theme this year is Frosty the Snow
 man. The rain date for the parade will be Sunday\, December 4th at 7 p.m.<
 /p>
DTSTAMP:20260420T141621Z
END:VEVENT
END:VCALENDAR