BEGIN:VCALENDAR
VERSION:2.0
PRODID:SoDel
X-WR-CALNAME:Rodgers & Hammerstein Broadway Cabaret
BEGIN:VEVENT
UID:339202026-03-14
DTSTART:20260314T233000Z
SEQUENCE:0
TRANSP:OPAQUE
DTEND:20260314T040000Z
LOCATION:110 Union Street\nMilton DE 19968
X-APPLE-STRUCTURED-LOCATION;VALUE=URI;X-ADDRESS=110 Union Street\nMilton DE
  19968;X-APPLE-RADIUS=49;X-TITLE=110 Union Street:geo:38.778233,-75.310919
GEO:38.778233;-75.310919
SUMMARY:Rodgers & Hammerstein Broadway Cabaret
CLASS:PUBLIC
DESCRIPTION:Step into an unforgettable evening of music and storytelling as
  some\nof our favorite regional stars take the stage for a dazzling Cabare
 t\ncelebration of Richard Rodgers and Oscar Hammerstein II. From the\nswee
 ping romance of Carousel to the spirited joy of Oklahoma! and the\ntimeles
 s beauty of The Sound of Music\, this intimate performance\nhighlights the
  very best of Broadway’s most legendary duo. With\npowerful voices\, hea
 rtfelt interpretations\, and a touch of cabaret\nflair\, it’s a night of
  classic songs reimagined and cherished anew.\nVenue: Milton Theatre.
X-ALT-DESC;FMTTYPE=text/html:Step into an unforgettable evening of music an
 d storytelling as some of our favorite regional stars take the stage for a
  dazzling Cabaret celebration of Richard Rodgers and Oscar Hammerstein II.
  From the sweeping romance of Carousel to the spirited joy of Oklahoma! an
 d the timeless beauty of The Sound of Music\, this intimate performance hi
 ghlights the very best of Broadway’s most legendary duo. With powerful v
 oices\, heartfelt interpretations\, and a touch of cabaret flair\, it’s 
 a night of classic songs reimagined and cherished anew. Venue: Milton Thea
 tre.
DTSTAMP:20260421T102654Z
END:VEVENT
END:VCALENDAR