BEGIN:VCALENDAR
VERSION:2.0
PRODID:SoDel
X-WR-CALNAME:Rocking the Docks - Concert Series
BEGIN:VEVENT
UID:268392025-06-25
DTSTART;VALUE=DATE:20250625
SEQUENCE:0
TRANSP:OPAQUE
DTEND;VALUE=DATE:20250626
LOCATION:43 Cape Henlopen Drive\nLewes Delaware 19958
X-APPLE-STRUCTURED-LOCATION;VALUE=URI;X-ADDRESS=43 Cape Henlopen Drive\nLew
 es Delaware 19958;X-APPLE-RADIUS=49;X-TITLE=43 Cape Henlopen Drive:geo:38.
 782034,-75.118942
GEO:38.782034;-75.118942
SUMMARY:Rocking the Docks - Concert Series
CLASS:PUBLIC
DESCRIPTION:Rocking the Docks is back and bigger than ever in 2025\,\nbring
 ing 17 electrifying shows over 11 weeks to the scenic waterfront\nof Lewes
 \,\nDelaware. Now in its third year\, the summer-long concert series has\n
 grown into a can’t-\nmiss tradition for music lovers of all ages at The 
 Lewes Ferry\nGrounds.\n
X-ALT-DESC;FMTTYPE=text/html:<p>Rocking the Docks is back and bigger than e
 ver in 2025\,<br />\nbringing 17 electrifying shows over 11 weeks to the s
 cenic waterfront of Lewes\,<br />\nDelaware. Now in its third year\, the s
 ummer-long concert series has grown into a can&rsquo\;t-<br />\nmiss tradi
 tion for music lovers of all ages at The Lewes Ferry Grounds.</p>
X-MICROSOFT-CDO-ALLDAYEVENT:TRUE
DTSTAMP:20260421T163848Z
END:VEVENT
END:VCALENDAR