BEGIN:VCALENDAR
VERSION:2.0
PRODID:SoDel
X-WR-CALNAME:Riverwalk Freedom Festival
BEGIN:VEVENT
UID:292182025-09-20
DTSTART:20250920T130000Z
SEQUENCE:0
TRANSP:OPAQUE
DTEND:20250921T010000Z
SUMMARY:Riverwalk Freedom Festival
CLASS:PUBLIC
DESCRIPTION:Invite family and friends! FREE LIVE MUSIC\, Beer garden\, 150 
 +\nvendors\, kids area\, food trucks\, car show\, patriotic pet parade\,\n
 paddleboat rides\, duck dash on Mispillion River and FIREWORKS at\n8:30pm!
 \n\n \n
X-ALT-DESC;FMTTYPE=text/html:<p>Invite family and friends! FREE LIVE MUSIC\
 , Beer garden\, 150 + vendors\, kids area\, food trucks\, car show\, patri
 otic pet parade\, paddleboat rides\, duck dash on Mispillion River and FIR
 EWORKS at 8:30pm!</p>\n\n<p>&nbsp\;</p>
DTSTAMP:20260424T171150Z
END:VEVENT
END:VCALENDAR