BEGIN:VCALENDAR
VERSION:2.0
PRODID:SoDel
X-WR-CALNAME:Rehoboth Beach Christmas Parade
BEGIN:VEVENT
UID:156382022-12-05
DTSTART:20221205T230000Z
SEQUENCE:0
TRANSP:OPAQUE
DTEND:20221205T050000Z
SUMMARY:Rehoboth Beach Christmas Parade
CLASS:PUBLIC
DESCRIPTION:he Rehoboth Beach Volunteer Fire Company will be hosting and\np
 resenting this year's Rehoboth Beach Hometown Christmas Parade\n6:00 p.m.\
 , Monday\, December 5th\, 2022.\n\nCome out and enjoy the parade\, the Chr
 istmas tree\, and\, of course\, the\narrival of Santa Claus himself.\nAll 
 parade participants and attendees are invited to the Rehoboth\nBeach Volun
 teer Fire Company on Rehoboth Avenue after the Parade for\nSanta’s Chris
 tmas party\, which will include refreshments and an\nopportunity for child
 ren to visit Santa Claus.\n
X-ALT-DESC;FMTTYPE=text/html:<p>he Rehoboth Beach Volunteer Fire Company wi
 ll be hosting and presenting this year&#39\;s Rehoboth Beach Hometown Chri
 stmas Parade<br />\n6:00 p.m.\, Monday\, December 5th\, 2022.</p>\n\n<p>Co
 me out and enjoy the parade\, the Christmas tree\, and\, of course\, the a
 rrival of Santa Claus himself.<br />\nAll parade participants and attendee
 s are invited to the Rehoboth Beach Volunteer Fire Company on Rehoboth Ave
 nue after the Parade for Santa&rsquo\;s Christmas party\, which will inclu
 de refreshments and an opportunity for children to visit Santa Claus.</p>
DTSTAMP:20260426T040514Z
END:VEVENT
END:VCALENDAR