BEGIN:VCALENDAR
VERSION:2.0
PRODID:SoDel
X-WR-CALNAME:Quayside at Nite at The Milton Theatre
BEGIN:VEVENT
UID:74792021-08-26
DTSTART:20210826T230000Z
SEQUENCE:0
TRANSP:OPAQUE
DTEND:20210826T040000Z
LOCATION:110 Union Street\nMilton Delaware 19968
X-APPLE-STRUCTURED-LOCATION;VALUE=URI;X-ADDRESS=110 Union Street\nMilton De
 laware 19968;X-APPLE-RADIUS=49;X-TITLE=110 Union Street:geo:38.778233,-75.
 310919
GEO:38.778233;-75.310919
SUMMARY:Quayside at Nite at The Milton Theatre
CLASS:PUBLIC
DESCRIPTION:JOIN US FOR A SAFE YET FUN DOWNTOWN MILTON OUTDOOR HAPPY HOUR W
 ITH\nLIVE MUSIC @ QUAYSIDE!\n\nWELL-BEHAVED KIDS & DOGS WELCOME!\n\nBYOC!
  BRING YOUR OWN CHAIR OR RESERVE SOME OF OUR BRAND NEW LAWN\nFURNITURE.\n\
 nTHE MILTON THEATRE QUAYSIDE FEATURES A BEER GARDEN SERVING BEER\, WINE\,\
 nAND SLUSHIE SPIKED DRINKS.\n\nMilton Theatre Food Stall featuring: Kobe B
 eef Hot Dogs\,\nJalapeno/Cheese Hot Dogs\, Popcorn\, Fresh Baked Cookies &
  Brownies\,\nSoft Drinks\, Water.\n\nRAIN CONTINGENCY: PLANNED QUAYSIDE AC
 TIVITIES WILL BE MOVED INSIDE THE\nMILTON THEATRE WITH SOCIAL DISTANCING.\
 n
X-ALT-DESC;FMTTYPE=text/html:<h2>Join us for a SAFE yet FUN downtown Milton
  outdoor HAPPY HOUR with LIVE MUSIC @ Quayside!</h2>\n\n<h3>Well-Behaved&n
 bsp\;<strong>Kids &amp\; Dogs Welcome!</strong></h3>\n\n<h3>BYOC! Bring Yo
 ur Own Chair or reserve some of our brand new lawn furniture.</h3>\n\n<p><
 strong>The Milton Theatre Quayside features a Beer Garden serving Beer\, W
 ine\, and Slushie Spiked Drinks.</strong></p>\n\n<p>Milton Theatre Food St
 all featuring: Kobe Beef Hot Dogs\, Jalapeno/Cheese Hot Dogs\, Popcorn\, F
 resh Baked Cookies &amp\; Brownies\, Soft Drinks\, Water.</p>\n\n<p><stron
 g>Rain Contingency: Planned Quayside activities will be moved inside the M
 ilton Theatre with social distancing.</strong></p>
DTSTAMP:20260423T183036Z
END:VEVENT
END:VCALENDAR