BEGIN:VCALENDAR
VERSION:2.0
PRODID:SoDel
X-WR-CALNAME:Phish Festival Kick-Off: Keller Williams' Grateful Grass
BEGIN:VEVENT
UID:246682024-08-14
DTSTART:20240814T210000Z
SEQUENCE:0
TRANSP:OPAQUE
DTEND:20240814T040000Z
LOCATION:43 Cape Henlopen Drive\nLewes DE 19958
X-APPLE-STRUCTURED-LOCATION;VALUE=URI;X-ADDRESS=43 Cape Henlopen Drive\nLew
 es DE 19958;X-APPLE-RADIUS=49;X-TITLE=43 Cape Henlopen Drive:geo:38.782065
 ,-75.118508
GEO:38.782065;-75.118508
SUMMARY:Phish Festival Kick-Off: Keller Williams' Grateful Grass
CLASS:PUBLIC
DESCRIPTION:Rocking The Docks - Coastal Delaware Outdoor Series Presents: K
 eller\nWilliams' Grateful Grass Featuring The Hillbenders THE PERFECT PHIS
 H\nFESTIVAL KICKOFF! Wednesday August 14\, 2024 Outdoors at Lewes Ferry\nG
 rounds - On The Water - in Lewes! · Doors: 5:30 PMShow: 6:15 PM ·\nVIP T
 ICKET HOLDERS DOORS 5:00PM · All Ages! Kids 12 & younger may\nattend for 
 free (They DO NOT NEED A TICKET) · This Show is Rain or\nShine (No Refund
 s) · See below for the full lineup and artist details\n------------------
 ---------------- About Rocking The Docks · Venue:\nCape May-Lewes Ferry.
X-ALT-DESC;FMTTYPE=text/html:Rocking The Docks - Coastal Delaware Outdoor S
 eries Presents: Keller Williams' Grateful Grass Featuring The Hillbenders 
 THE PERFECT PHISH FESTIVAL KICKOFF! Wednesday August 14\, 2024 Outdoors at
  Lewes Ferry Grounds - On The Water - in Lewes! · Doors: 5:30 PMShow: 6:1
 5 PM · VIP TICKET HOLDERS DOORS 5:00PM · All Ages! Kids 12 & younger may
  attend for free (They DO NOT NEED A TICKET) · This Show is Rain or Shine
  (No Refunds) · See below for the full lineup and artist details --------
 -------------------------- About Rocking The Docks · Venue: Cape May-Lewe
 s Ferry.
DTSTAMP:20260424T171506Z
END:VEVENT
END:VCALENDAR