BEGIN:VCALENDAR
VERSION:2.0
PRODID:SoDel
X-WR-CALNAME:Party Like it's 793! 2024 Mead\, Metal\, and Viking Festival
BEGIN:VEVENT
UID:238372024-06-09
DTSTART:20240609T160000Z
SEQUENCE:0
TRANSP:OPAQUE
DTEND:20240609T210000Z
LOCATION:28615 Lewes Georgetown Highway\nMilton Delaware 19968
X-APPLE-STRUCTURED-LOCATION;VALUE=URI;X-ADDRESS=28615 Lewes Georgetown High
 way\nMilton Delaware 19968;X-APPLE-RADIUS=49;X-TITLE=28615 Lewes Georgetow
 n Highway:geo:38.733604,-75.243477
GEO:38.733604;-75.243477
SUMMARY:Party Like it's 793! 2024 Mead\, Metal\, and Viking Festival
CLASS:PUBLIC
DESCRIPTION:Since 2018 we have celebrated the start of the Viking Age in th
 e West\nwith a party at The Brimming Horn Meadery.\n\nOn June 8th\, 793 th
 e island monastery of Lindisfarne was attacked by\nViking raiders\, which 
 is the date scholars normally use as the start\nof the Viking Age in the W
 est.\n\nJoin us for a weekend of live music\, food and craft vendors\, and
  every\nViking's favorite drink...MEAD!!! You can even come and meet some 
 of\nour Viking reenactors and learn a bit of history.\n
X-ALT-DESC;FMTTYPE=text/html:<p>Since 2018 we have celebrated the start of 
 the Viking Age in the West with a party at The Brimming Horn Meadery.<br /
 >\n<br />\nOn June 8th\, 793 the island monastery of Lindisfarne was attac
 ked by Viking raiders\, which is the date scholars normally use as the sta
 rt of the Viking Age in the West.<br />\n<br />\nJoin us for a weekend of 
 live music\, food and craft vendors\, and every Viking&#39\;s favorite dri
 nk...MEAD!!! You can even come and meet some of our Viking reenactors and 
 learn a bit of history.</p>
DTSTAMP:20260421T181743Z
END:VEVENT
END:VCALENDAR