BEGIN:VCALENDAR
VERSION:2.0
PRODID:SoDel
X-WR-CALNAME:Ozzmosis – Ozzy Osbourne Tribute Show
BEGIN:VEVENT
UID:269462025-09-01
DTSTART:20250901T233000Z
SEQUENCE:0
TRANSP:OPAQUE
DTEND:20250901T040000Z
LOCATION:110 Union Street\nMilton DE 19968
X-APPLE-STRUCTURED-LOCATION;VALUE=URI;X-ADDRESS=110 Union Street\nMilton DE
  19968;X-APPLE-RADIUS=49;X-TITLE=110 Union Street:geo:38.778233,-75.310919
GEO:38.778233;-75.310919
SUMMARY:Ozzmosis – Ozzy Osbourne Tribute Show
CLASS:PUBLIC
DESCRIPTION:The members of the band take great pride in creating the next b
 est\nthing to a live Ozzy performance that transports you through time to\
 nexperience the energy of Ozzy Osbourne capturing his solo career from\nRa
 ndy Rhoads to Zakk Wylde. As the song says\, “You can’t kill\nrock-n-r
 oll\, it’s here to stay!” Ozzmosis proves it every time.\nJoin us on t
 his journey of classic metal and relive the complete Ozzy\nphenomenon. Ven
 ue: Milton Theatre.
X-ALT-DESC;FMTTYPE=text/html:The members of the band take great pride in cr
 eating the next best thing to a live Ozzy performance that transports you 
 through time to experience the energy of Ozzy Osbourne capturing his solo 
 career from Randy Rhoads to Zakk Wylde. As the song says\, “You can’t 
 kill rock-n-roll\, it’s here to stay!” Ozzmosis proves it every time. 
 Join us on this journey of classic metal and relive the complete Ozzy phen
 omenon. Venue: Milton Theatre.
DTSTAMP:20260424T171201Z
END:VEVENT
END:VCALENDAR