BEGIN:VCALENDAR
VERSION:2.0
PRODID:SoDel
X-WR-CALNAME:Magnolia Applebottom and Special Guests
BEGIN:VEVENT
UID:51052020-05-29
DTSTART;VALUE=DATE:20200529
SEQUENCE:0
TRANSP:OPAQUE
DTEND;VALUE=DATE:20200530
SUMMARY:Magnolia Applebottom and Special Guests
CLASS:PUBLIC
DESCRIPTION:Magnolia Applebottom is a world class cabaret performer from Ja
 ckson\,\nMississippi. Mrs. Applebottom is a mid-life crisis at its finest.
 \nShe's kooky\, she's cool\, she barely finished school but she knows how\
 nto put a smile on any face. Even those with a cleft lip. So like her\npag
 e and share her antics with your friends. Maybe go to a Magnolia\nApplebot
 tom show!\n
X-ALT-DESC;FMTTYPE=text/html:<p>Magnolia Applebottom is a world class cabar
 et performer from Jackson\, Mississippi. Mrs. Applebottom is a mid-life cr
 isis at its finest. She&#39\;s kooky\, she&#39\;s cool\, she barely finish
 ed school but she knows how to put a smile on any face. Even those with a 
 cleft lip. So like her page and share her antics with your friends. Maybe 
 go to a Magnolia Applebottom show!</p>
X-MICROSOFT-CDO-ALLDAYEVENT:TRUE
DTSTAMP:20260422T105800Z
END:VEVENT
END:VCALENDAR