BEGIN:VCALENDAR
VERSION:2.0
PRODID:SoDel
X-WR-CALNAME:Lewes Old Fashioned Christmas Parade
BEGIN:VEVENT
UID:321872025-12-06
DTSTART;VALUE=DATE:20251206
SEQUENCE:0
TRANSP:OPAQUE
DTEND;VALUE=DATE:20251207
SUMMARY:Lewes Old Fashioned Christmas Parade
CLASS:PUBLIC
DESCRIPTION:The City of Lewes and the Lewes Chamber of Commerce have partne
 red to\norganize the City’s Christmas parade for many years. With up to 
 100\nentries\, the parade includes decorated new and classic cars and\ntru
 cks\; commercial\, youth and community organizations’ floats\;\nmarching
  groups\; equestrians\; regional fire companies and concludes\nwith the Ca
 pe Henlopen High School marching band followed by the Lewes\nFire Company 
 with Santa riding in one of the  trucks. Following the\nparade\, everyon
 e is invited to gather in Zwaanendael Park for the\nofficial tree lighting
  and candlelight caroling.\n
X-ALT-DESC;FMTTYPE=text/html:<p>The City of Lewes and the Lewes Chamber of 
 Commerce have partnered to organize the City&rsquo\;s Christmas parade for
  many years. With up to 100 entries\, the parade includes decorated new an
 d classic cars and trucks\; commercial\, youth and community organizations
 &rsquo\; floats\; marching groups\; equestrians\; regional fire companies 
 and concludes with the Cape Henlopen High School marching band followed by
  the Lewes Fire Company with Santa riding in one of the&nbsp\;&nbsp\;truck
 s. Following the parade\, everyone is invited to gather in Zwaanendael Par
 k for the official tree lighting and candlelight caroling.</p>
X-MICROSOFT-CDO-ALLDAYEVENT:TRUE
DTSTAMP:20260424T171247Z
END:VEVENT
END:VCALENDAR