BEGIN:VCALENDAR
VERSION:2.0
PRODID:SoDel
X-WR-CALNAME:Kings & Queen: Mozart’s Coronation Mass meets Freddie Mercur
 y
BEGIN:VEVENT
UID:345462026-04-26
DTSTART:20260426T190000Z
SEQUENCE:0
TRANSP:OPAQUE
DTEND:20260426T040000Z
LOCATION:19285 Holland Glade Road\nRehoboth Beach DE 19971
X-APPLE-STRUCTURED-LOCATION;VALUE=URI;X-ADDRESS=19285 Holland Glade Road\nR
 ehoboth Beach DE 19971;X-APPLE-RADIUS=49;X-TITLE=19285 Holland Glade Road:
 geo:38.719044,-75.106979
GEO:38.719044;-75.106979
SUMMARY:Kings & Queen: Mozart’s Coronation Mass meets Freddie Mercury
CLASS:PUBLIC
DESCRIPTION:Step into a bold musical experience where classical grandeur me
 ets\nrock royalty. Kings & Queen: Mozart’s Coronation Mass meets Freddie
 \nMercury brings together the brilliance of Mozart’s soaring sacred\nmas
 terpiece and the electrifying anthems of Queen in one unforgettable\nconce
 rt. From the majesty of the coronation hall to the raw power of\nthe arena
  stage\, this performance celebrates timeless genius\, iconic\nvoices\, an
 d the music that continues to reign across centuries. April\n26\, 2026 at 
 3 pm Epworth United Methodist Church Venue: Epworth United\nMethodist Chur
 ch\, Rehoboth. Presenter: Southern Delaware Chorale.
X-ALT-DESC;FMTTYPE=text/html:Step into a bold musical experience where clas
 sical grandeur meets rock royalty. Kings & Queen: Mozart’s Coronation Ma
 ss meets Freddie Mercury brings together the brilliance of Mozart’s soar
 ing sacred masterpiece and the electrifying anthems of Queen in one unforg
 ettable concert. From the majesty of the coronation hall to the raw power 
 of the arena stage\, this performance celebrates timeless genius\, iconic 
 voices\, and the music that continues to reign across centuries. April 26\
 , 2026 at 3 pm Epworth United Methodist Church Venue: Epworth United Metho
 dist Church\, Rehoboth. Presenter: Southern Delaware Chorale.
DTSTAMP:20260425T132515Z
END:VEVENT
END:VCALENDAR