BEGIN:VCALENDAR
VERSION:2.0
PRODID:SoDel
X-WR-CALNAME:Independence Day Celebration
BEGIN:VEVENT
UID:273082025-07-04
DTSTART;VALUE=DATE:20250704
SEQUENCE:0
TRANSP:OPAQUE
DTEND;VALUE=DATE:20250705
SUMMARY:Independence Day Celebration
CLASS:PUBLIC
DESCRIPTION:This is our biggest party of the year with a parade through dow
 ntown\nand concert on the Bandstand. \n\nFireworks will depend on beach c
 onditions.  \n\nWant to participate?  Gather your friends\, family\, and
  co-workers\,\nand enter your float for a chance to win great prizes.  \n
X-ALT-DESC;FMTTYPE=text/html:<p>This is our biggest party of the year with 
 a parade through downtown and concert on the Bandstand.&nbsp\;</p>\n\n<p>F
 ireworks will depend on beach conditions. &nbsp\;</p>\n\n<p>Want to partic
 ipate? &nbsp\;Gather your friends\, family\, and co-workers\, and enter yo
 ur float for a chance to win great prizes. &nbsp\;</p>
X-MICROSOFT-CDO-ALLDAYEVENT:TRUE
DTSTAMP:20260422T091553Z
END:VEVENT
END:VCALENDAR