BEGIN:VCALENDAR
VERSION:2.0
PRODID:SoDel
X-WR-CALNAME:Funk 'n Roots
BEGIN:VEVENT
UID:342872026-03-01
DTSTART:20260301T230000Z
SEQUENCE:0
TRANSP:OPAQUE
DTEND:20260301T050000Z
LOCATION:18388 Coastal Highway #11\nLewes DE 19958
X-APPLE-STRUCTURED-LOCATION;VALUE=URI;X-ADDRESS=18388 Coastal Highway #11\n
 Lewes DE 19958;X-APPLE-RADIUS=49;X-TITLE=18388 Coastal Highway #11:geo:38.
 739577,-75.147381
GEO:38.739577;-75.147381
SUMMARY:Funk 'n Roots
CLASS:PUBLIC
DESCRIPTION:FUNK 'N ROOTS Garrett \"Starchild Jr\" Shider of Parliament Fun
 kadelic\nwill join the Fitzkee Brothers\, Melody and Vaylor for an unforge
 ttable\nshow\, one night only at The Listening Booth in Lewes\, Delaware o
 n\nMarch 1\, 2026 This unique collaboration features Melody Trucks\n(daugh
 ter of Allman Brothers Band legendary drummer Butch Trucks) with\nher band
 \, alongside Starchild Jr. (son of Starchild/Diaperman of\nParliament-Funk
 adelic and current guitarist/vocalist in P-Funk) & rec\nelected added spec
 ial guest Melody’s brother Vaylor Trucks also on\nguitar!! Together\, th
 ey pay homage to the powerful legacies left by\ntheir fathers while ensuri
 ng the music continues to live on. The show\nwill include a mix of origina
 l material and classic Allman Brothers\nBand and P-Funk songs—many taugh
 t to them directly by the legends\nthemselves. They’ll also be passing t
 hese musical traditions on to\nthe next generation of players\, including 
 The Fitzkee Brothers. Hear\nfirsthand stories about growing up around both
  iconic bands from\nMelody\, Vaylor\, & Garrett\, and learn from the Fitzk
 ee Brothers how the\nnext generation is honoring these lessons\, enjoy a t
 ruly phenomenal\nevening of music. Venue: The Listening Booth.
X-ALT-DESC;FMTTYPE=text/html: FUNK 'N ROOTS Garrett \"Starchild Jr\" Shider
  of Parliament Funkadelic will join the Fitzkee Brothers\, Melody and Vayl
 or for an unforgettable show\, one night only at The Listening Booth in Le
 wes\, Delaware on March 1\, 2026 This unique collaboration features Melody
  Trucks (daughter of Allman Brothers Band legendary drummer Butch Trucks) 
 with her band\, alongside Starchild Jr. (son of Starchild/Diaperman of Par
 liament-Funkadelic and current guitarist/vocalist in P-Funk) & rec elected
  added special guest Melody’s brother Vaylor Trucks also on guitar!! Tog
 ether\, they pay homage to the powerful legacies left by their fathers whi
 le ensuring the music continues to live on. The show will include a mix of
  original material and classic Allman Brothers Band and P-Funk songs—man
 y taught to them directly by the legends themselves. They’ll also be pas
 sing these musical traditions on to the next generation of players\, inclu
 ding The Fitzkee Brothers. Hear firsthand stories about growing up around 
 both iconic bands from Melody\, Vaylor\, & Garrett\, and learn from the Fi
 tzkee Brothers how the next generation is honoring these lessons\, enjoy a
  truly phenomenal evening of music. Venue: The Listening Booth.
DTSTAMP:20260421T115224Z
END:VEVENT
END:VCALENDAR