BEGIN:VCALENDAR
VERSION:2.0
PRODID:SoDel
X-WR-CALNAME:Frankie Valli & The Four Seasons: The Last Encores
BEGIN:VEVENT
UID:272332025-07-18
DTSTART:20250718T233000Z
SEQUENCE:0
TRANSP:OPAQUE
DTEND:20250718T040000Z
LOCATION:31806 Lake View Drive\nSelbyville DE 19975
X-APPLE-STRUCTURED-LOCATION;VALUE=URI;X-ADDRESS=31806 Lake View Drive\nSelb
 yville DE 19975;X-APPLE-RADIUS=49;X-TITLE=31806 Lake View Drive:geo:38.466
 017,-75.112054
GEO:38.466017;-75.112054
SUMMARY:Frankie Valli & The Four Seasons: The Last Encores
CLASS:PUBLIC
DESCRIPTION:The original Jersey boy himself\, Frankie Valli\, is a true Ame
 rican\nlegend. His incredible career with the Four Seasons\, as well as hi
 s\nsolo success\, has spawned countless hit singles. With unforgettable\nt
 unes like “Sherry\,” “Walk Like A Man\,” “Big Girls Don't\nCry\,
 ” “Rag Doll\,” “December ?63 - Oh What A Night\,” “Can't\nTake
  My Eyes Off of You\,” and of course\, “Grease.” His songs\nhave bee
 n omnipresent in other iconic movies such as The Deer Hunter\,\nDirty Danc
 ing\, Mrs. Doubtfire\, Conspiracy Theory and The Wanderers. As\nmany as 20
 0 artists have done cover versions of Frankie's “Can't\nTake My Eyes Off
  You\,” from Nancy Wilson's jazz treatment to Lauryn\nHill's hip-hop mak
 eover. Frankie Valli and the Four Seasons have sold\nover 100 million reco
 rds worldwide. They continue to tour throughout\nthe U.S. and abroad to pa
 cked houses\, receiving nightly standing\novations from thrilled fans of m
 ultiple generations. Valli's\nlong-lasting career has led to the overwhelm
 ing success of the\nBroadway musical JERSEY BOYS\, which chronicles Franki
 e Valli and the\nFour Seasons' incredible career and features all of their
  greatest\nhits. The JERSEY BOYS juggernaut has now been seen by over 18 m
 illion\npeople worldwide\, won 4 Tony Awards\, including Best Musical (200
 6)\,\nand is currently playing in New York\, Las Vegas\, London\, in citie
 s\nacross the U.S. on a National Tour and The Netherlands\; and will open\
 nsoon in Korea. It is the 15th longest-running show in Broadway\nhistory\,
  having played over 3\,250 performances and recently passing\nFiddler on t
 he Roof\, Hello Dolly!\, The Producers\, Hairspray\, My Fair\nLady and Okl
 ahoma. In 2014\, Frankie Valli's life story was once again\nfeatured. This
  time in the film adaptation of JERSEY BOYS\, directed by\nAcademy Award-w
 inning director Clint Eastwood. Valli also returned to\nacting in Rob Rein
 er's romantic comedy\, And So It Goes. The film\nstarred Michael Douglas a
 nd Diane Keaton\, and was release July 18\,\n2014. Frankie recently appear
 ed on this past season of Hawaii 5-0 and\nhis mega hit BIG GIRLS DON?T CRY
  was just inducted into the Grammy\nHall of Fame 2015. On May 18\, 2015\, 
 Dan Rather profiled the legend for\nhis series\, The Big Interview and he 
 also participated in the AMC\nseries\, The Making of the Mob. In 2016\, Fr
 ankie Valli and the Four\nSeasons appeared on Broadway in a limited engage
 ment from October 21\nthrough October 29 at the Lunt-Fontanne Theatre. Fra
 nkie Valli\nreleased\, TIS THE SEASONS\, which was a holiday album release
 d on\nOctober 14\, 2016\, on Rhino. Venue: Freeman Arts Pavilion.
X-ALT-DESC;FMTTYPE=text/html:The original Jersey boy himself\, Frankie Vall
 i\, is a true American legend. His incredible career with the Four Seasons
 \, as well as his solo success\, has spawned countless hit singles. With u
 nforgettable tunes like “Sherry\,” “Walk Like A Man\,” “Big Girl
 s Don't Cry\,” “Rag Doll\,” “December ?63 - Oh What A Night\,” 
 “Can't Take My Eyes Off of You\,” and of course\, “Grease.” His so
 ngs have been omnipresent in other iconic movies such as The Deer Hunter\,
  Dirty Dancing\, Mrs. Doubtfire\, Conspiracy Theory and The Wanderers. As 
 many as 200 artists have done cover versions of Frankie's “Can't Take My
  Eyes Off You\,” from Nancy Wilson's jazz treatment to Lauryn Hill's hip
 -hop makeover. Frankie Valli and the Four Seasons have sold over 100 milli
 on records worldwide. They continue to tour throughout the U.S. and abroad
  to packed houses\, receiving nightly standing ovations from thrilled fans
  of multiple generations. Valli's long-lasting career has led to the overw
 helming success of the Broadway musical JERSEY BOYS\, which chronicles Fra
 nkie Valli and the Four Seasons' incredible career and features all of the
 ir greatest hits. The JERSEY BOYS juggernaut has now been seen by over 18 
 million people worldwide\, won 4 Tony Awards\, including Best Musical (200
 6)\, and is currently playing in New York\, Las Vegas\, London\, in cities
  across the U.S. on a National Tour and The Netherlands\; and will open so
 on in Korea. It is the 15th longest-running show in Broadway history\, hav
 ing played over 3\,250 performances and recently passing Fiddler on the Ro
 of\, Hello Dolly!\, The Producers\, Hairspray\, My Fair Lady and Oklahoma.
  In 2014\, Frankie Valli's life story was once again featured. This time i
 n the film adaptation of JERSEY BOYS\, directed by Academy Award-winning d
 irector Clint Eastwood. Valli also returned to acting in Rob Reiner's roma
 ntic comedy\, And So It Goes. The film starred Michael Douglas and Diane K
 eaton\, and was release July 18\, 2014. Frankie recently appeared on this 
 past season of Hawaii 5-0 and his mega hit BIG GIRLS DON?T CRY was just in
 ducted into the Grammy Hall of Fame 2015. On May 18\, 2015\, Dan Rather pr
 ofiled the legend for his series\, The Big Interview and he also participa
 ted in the AMC series\, The Making of the Mob. In 2016\, Frankie Valli and
  the Four Seasons appeared on Broadway in a limited engagement from Octobe
 r 21 through October 29 at the Lunt-Fontanne Theatre. Frankie Valli releas
 ed\, TIS THE SEASONS\, which was a holiday album released on October 14\, 
 2016\, on Rhino. Venue: Freeman Arts Pavilion.
DTSTAMP:20260423T160530Z
END:VEVENT
END:VCALENDAR