BEGIN:VCALENDAR
VERSION:2.0
PRODID:SoDel
X-WR-CALNAME:EMMA A Pop Musical
BEGIN:VEVENT
UID:84252022-04-10
DTSTART;VALUE=DATE:20220410
SEQUENCE:0
TRANSP:OPAQUE
DTEND;VALUE=DATE:20220411
SUMMARY:EMMA A Pop Musical
CLASS:PUBLIC
DESCRIPTION:Emma\, a senior at Highbury Prep\, is certain she knows what’
 s best\nfor her classmates’ love lives\, and is determined to find the\n
 perfect boyfriend for shy sophomore Harriet by the end of the school\nyear
 . But will Emma’s relentless matchmaking get in the way of\nfinding her 
 own happiness? Based on Jane Austen’s classic novel\,\nthis sparkling ne
 w musical features the hit songs of legendary girl\ngroups and iconic fema
 le singers from The Supremes to Katy Perry. Girl\npower has never sounded 
 so good! Presented by our Spotlight on Young\nPerformers. Venue: Clear Spa
 ce Theatre Company.
X-ALT-DESC;FMTTYPE=text/html:Emma\, a senior at Highbury Prep\, is certain 
 she knows what’s best for her classmates’ love lives\, and is determin
 ed to find the perfect boyfriend for shy sophomore Harriet by the end of t
 he school year. But will Emma’s relentless matchmaking get in the way of
  finding her own happiness? Based on Jane Austen’s classic novel\, this 
 sparkling new musical features the hit songs of legendary girl groups and 
 iconic female singers from The Supremes to Katy Perry. Girl power has neve
 r sounded so good! Presented by our Spotlight on Young Performers. Venue: 
 Clear Space Theatre Company.
X-MICROSOFT-CDO-ALLDAYEVENT:TRUE
DTSTAMP:20260421T040705Z
END:VEVENT
END:VCALENDAR