BEGIN:VCALENDAR
VERSION:2.0
PRODID:SoDel
X-WR-CALNAME:Dogfish Dash
BEGIN:VEVENT
UID:250322024-09-29
DTSTART;VALUE=DATE:20240929
SEQUENCE:0
TRANSP:OPAQUE
DTEND;VALUE=DATE:20240930
LOCATION:6 Village Center Boulevard\nMilton Delaware 19968
X-APPLE-STRUCTURED-LOCATION;VALUE=URI;X-ADDRESS=6 Village Center Boulevard\
 nMilton Delaware 19968;X-APPLE-RADIUS=49;X-TITLE=6 Village Center Boulevar
 d:geo:38.770366,-75.310837
GEO:38.770366;-75.310837
SUMMARY:Dogfish Dash
CLASS:PUBLIC
DESCRIPTION:Join us for Dogfish Dash on Sunday\, September 29! Registration
  is now\nopen for this off-centered road race that starts and ends at Dogf
 ish\nHead‘s Milton Brewery. The approximate distance for the 2024 Dogfis
 h\nDash is 3.81 miles (please note\, final race route is subject to\nchang
 e\, so distance could vary slightly) and proceeds helps nature by\nbenefit
 ting the Sussex County Land Trust\n[https://www.sclandtrust.org/]\n\nLast
  year’s route was loved by all so we again will be dashing\nthrough hist
 oric Milton and the surrounding nature views to make our\nway to the finis
 h line. We are working with our longtime partner\nSeashore Striders for he
 lp in executing the event and accurate timing.\n\nRegistered Dashers will 
 receive some sweet runner goodies that include\na runner t-shirt and socks
 \; plus a post-run party with live music and\nactivities from this year's 
 beneficiary. Dashers will receive two\nbeverage tickets (21+ only) and som
 e tasty post-run grub. We will\ncontinue the tradition of the \"Recycled C
 ostume Contest\"\, so if you\ncreate an outfit crafted from recycled stuff
 \, you'll be entered to win\nsome sweet prizes. This year will feature som
 e incredible prizes for\nthe group with the best recycled costumes along w
 ith best dressed gal\nand best dressed dude!\n\nOur friends from Sneakers
 4Good [https://sneakers4good.com/] will be\nonsite collecting used runnin
 g shoes. The positive impact of sneaker\nrecycling goes further than your 
 community. It helps improve the lives\nof people all around the world. Put
  those miles to good use and let\nSneakers4Good take care of those old das
 hing shoes.\n\nInterested in being a sponsor for this years dash?! reach o
 ut\nto events@dogfish.com to learn more!\n\nFor those that would like to
  make a whole weekend out of it\, you can\nbook our exclusive Dogfish Dash
  INN Package.\n
X-ALT-DESC;FMTTYPE=text/html:<p>Join us for Dogfish Dash on Sunday\, Septem
 ber 29! Registration is now open for this off-centered road race that star
 ts and ends at Dogfish Head&lsquo\;s Milton Brewery. The approximate dista
 nce for the 2024 Dogfish Dash is 3.81 miles (please note\, final race rout
 e is subject to change\, so distance could vary slightly) and proceeds hel
 ps nature by benefitting the&nbsp\;<a href=\"https://www.sclandtrust.org/\
 " target=\"_blank\">Sussex County Land Trust</a></p>\n\n<p>Last year&rsquo
 \;s route was loved by all so we again will be dashing through historic Mi
 lton and the surrounding nature views to make our way to the finish line. 
 We are working with our longtime partner Seashore Striders for help in exe
 cuting the event and accurate timing.</p>\n\n<p>Registered Dashers will re
 ceive some sweet runner goodies that include a runner t-shirt and socks\; 
 plus a post-run party with live music and activities from this year&#39\;s
  beneficiary. Dashers will receive two beverage tickets (21+ only) and som
 e tasty post-run grub. We will continue the tradition of the &quot\;Recycl
 ed Costume Contest&quot\;\, so if you create an outfit crafted from recycl
 ed stuff\, you&#39\;ll be entered to win some sweet prizes. This year will
  feature some incredible prizes for the group with the best recycled costu
 mes along with best dressed gal and best dressed dude!</p>\n\n<p>Our frien
 ds from&nbsp\;<a href=\"https://sneakers4good.com/\" target=\"_blank\">Sne
 akers4Good</a>&nbsp\;will be onsite collecting used running shoes. The pos
 itive impact of sneaker recycling goes further than your community. It hel
 ps improve the lives of people all around the world. Put those miles to go
 od use and let Sneakers4Good take care of those old dashing shoes.</p>\n\n
 <p>Interested in being a sponsor for this years dash?! reach out to&nbsp\;
 <a href=\"mailto:events@dogfish.com\">events@dogfish.com</a>&nbsp\;to lear
 n more!</p>\n\n<p>For those that would like to make a whole weekend out of
  it\, you can book our exclusive Dogfish Dash INN Package.</p>
X-MICROSOFT-CDO-ALLDAYEVENT:TRUE
DTSTAMP:20260420T143528Z
END:VEVENT
END:VCALENDAR