BEGIN:VCALENDAR
VERSION:2.0
PRODID:SoDel
X-WR-CALNAME:Dewey Claus Crawl
BEGIN:VEVENT
UID:149312022-07-16
DTSTART:20220716T160000Z
SEQUENCE:0
TRANSP:OPAQUE
DTEND:20220716T040000Z
LOCATION:125 McKinley Street\nDewey Beach Delaware 19971
X-APPLE-STRUCTURED-LOCATION;VALUE=URI;X-ADDRESS=125 McKinley Street\nDewey 
 Beach Delaware 19971;X-APPLE-RADIUS=49;X-TITLE=125 McKinley Street:geo:38.
 692970,-75.078431
GEO:38.692970;-75.078431
SUMMARY:Dewey Claus Crawl
CLASS:PUBLIC
DESCRIPTION:Featuring 5 Christmas-in-July parties in four iconic Dewey Beac
 h bars!\nWin prizes\, and enjoy free give-a-ways at each party\, costumes 
 are\nencouraged!\n\nFor more info on the activities of the day\, click her
 e\n[https://www.deweyclauscrawl.com/thecrawl]\n
X-ALT-DESC;FMTTYPE=text/html:<p>Featuring 5 Christmas-in-July parties in fo
 ur iconic Dewey Beach bars! Win prizes\, and enjoy free give-a-ways at eac
 h party\, costumes are encouraged!</p>\n\n<p>For more info on the activiti
 es of the day\, <a href=\"https://www.deweyclauscrawl.com/thecrawl\">click
  here</a></p>
DTSTAMP:20260422T174007Z
END:VEVENT
END:VCALENDAR