BEGIN:VCALENDAR
VERSION:2.0
PRODID:SoDel
X-WR-CALNAME:Dewey Beach 4th of July Fireworks
BEGIN:VEVENT
UID:273102025-07-04
DTSTART;VALUE=DATE:20250704
SEQUENCE:0
TRANSP:OPAQUE
DTEND;VALUE=DATE:20250705
LOCATION:125 McKinley Ave\nDewey Beach Delaware 19971
X-APPLE-STRUCTURED-LOCATION;VALUE=URI;X-ADDRESS=125 McKinley Ave\nDewey Bea
 ch Delaware 19971;X-APPLE-RADIUS=49;X-TITLE=125 McKinley Ave:geo:38.693118
 ,-75.078139
GEO:38.693118;-75.078139
SUMMARY:Dewey Beach 4th of July Fireworks
CLASS:PUBLIC
DESCRIPTION:The revelry will be well under way at this rockin’ beach town
  by the\ntime the fireworks go off at around 9 p.m. The display will launc
 h\nfrom a barge in the bay in front of Northbeach/ Ivy\, two blocks from\n
 the Rusty Rudder\, and will be visible throughout town. \n
X-ALT-DESC;FMTTYPE=text/html:<p>The revelry will be well under way at this 
 rockin&rsquo\; beach town by the time the fireworks go off at around 9 p.m
 . The display will launch from a barge in the bay in front of Northbeach/ 
 Ivy\, two blocks from the Rusty Rudder\, and will be visible throughout to
 wn.&nbsp\;</p>
X-MICROSOFT-CDO-ALLDAYEVENT:TRUE
DTSTAMP:20260422T091553Z
END:VEVENT
END:VCALENDAR