BEGIN:VCALENDAR
VERSION:2.0
PRODID:SoDel
X-WR-CALNAME:Delmarva Birding Weekend
BEGIN:VEVENT
UID:351052026-04-26
DTSTART;VALUE=DATE:20260426
SEQUENCE:0
TRANSP:OPAQUE
DTEND;VALUE=DATE:20260427
LOCATION:15099 Cape Henlopen Drive\nLewes Delaware 19958
X-APPLE-STRUCTURED-LOCATION;VALUE=URI;X-ADDRESS=15099 Cape Henlopen Drive\n
 Lewes Delaware 19958;X-APPLE-RADIUS=49;X-TITLE=15099 Cape Henlopen Drive:g
 eo:38.782041,-75.103697
GEO:38.782041;-75.103697
SUMMARY:Delmarva Birding Weekend
CLASS:PUBLIC
DESCRIPTION:Meet your guides at the Fishing Pier Parking Lot at Cape Henlop
 en\nState Park for an overview of the morning’s itinerary. This largest\
 nstate park in Delaware has much to offer birders in the spring.\nLocated 
 where the Delaware Bay meets the Atlantic\, the park contains\npitch pine 
 forest\, forested wetland\, tidal marsh\, dunes and beach\nhabitats that s
 upport a wide array of bird life. After scoping the\nwater at the fishing 
 pier\, we’ll caravan to birding hotspots within\nthe park\, including a 
 feeder watch at the Nature Center and scanning\nthe beach and mudflats at 
 The Point for shorebirds.\n
X-ALT-DESC;FMTTYPE=text/html:<p>Meet your guides at the Fishing Pier Parkin
 g Lot at Cape Henlopen State Park for an overview of the morning&rsquo\;s 
 itinerary. This largest state park in Delaware has much to offer birders i
 n the spring. Located where the Delaware Bay meets the Atlantic\, the park
  contains pitch pine forest\, forested wetland\, tidal marsh\, dunes and b
 each habitats that support a wide array of bird life. After scoping the wa
 ter at the fishing pier\, we&rsquo\;ll caravan to birding hotspots within 
 the park\, including a feeder watch at the Nature Center and scanning the 
 beach and mudflats at The Point for shorebirds.</p>
X-MICROSOFT-CDO-ALLDAYEVENT:TRUE
DTSTAMP:20260425T132351Z
END:VEVENT
END:VCALENDAR