BEGIN:VCALENDAR
VERSION:2.0
PRODID:SoDel
X-WR-CALNAME:Delmarva Archaeology and History Symposium
BEGIN:VEVENT
UID:348502026-04-25
DTSTART:20260425T130000Z
SEQUENCE:0
TRANSP:OPAQUE
DTEND:20260425T200000Z
LOCATION:101 Adams Avenue\nLewes Delaware 19958
X-APPLE-STRUCTURED-LOCATION;VALUE=URI;X-ADDRESS=101 Adams Avenue\nLewes Del
 aware 19958;X-APPLE-RADIUS=49;X-TITLE=101 Adams Avenue:geo:38.767465,-75.1
 41916
GEO:38.767465;-75.141916
SUMMARY:Delmarva Archaeology and History Symposium
CLASS:PUBLIC
DESCRIPTION:The Delaware State Historic Preservation Office of the Division
  of\nHistorical and Cultural Affairs\, in partnership with the\nArchaeolog
 ical Society of Delaware\, will present the annual Delmarva\nArchaeology a
 nd History Symposium at the Historic Lewes Maritime\nMuseum\, 101 Adams Av
 enue\, in Lewes on Saturday\, April 25th 2026 from\n9:00am to 4:00pm. Rese
 archers and field experts will share findings\nfrom historical research to
  archaeological investigations that bring\nDelaware’s rich cultural past
  to life. The event is free to the\npublic and open to the media\, and is 
 hosted by Historic Lewes\,\npreviously known as the Lewes Historical Socie
 ty\n
X-ALT-DESC;FMTTYPE=text/html:<p>The Delaware State Historic Preservation Of
 fice of the Division of Historical and Cultural Affairs\, in partnership w
 ith the Archaeological Society of Delaware\, will present the annual Delma
 rva Archaeology and History Symposium at the Historic Lewes Maritime Museu
 m\, 101 Adams Avenue\, in Lewes on Saturday\, April 25th 2026 from 9:00am 
 to 4:00pm. Researchers and field experts will share findings from historic
 al research to archaeological investigations that bring Delaware&rsquo\;s 
 rich cultural past to life. The event is free to the public and open to th
 e media\, and is hosted by Historic Lewes\, previously known as the Lewes 
 Historical Society</p>
DTSTAMP:20260425T133116Z
END:VEVENT
END:VCALENDAR