BEGIN:VCALENDAR
VERSION:2.0
PRODID:SoDel
X-WR-CALNAME:DDXS – A Tribute to the Music of Duran Duran & INXS
BEGIN:VEVENT
UID:341412026-03-29
DTSTART:20260329T233000Z
SEQUENCE:0
TRANSP:OPAQUE
DTEND:20260329T040000Z
LOCATION:110 Union Street\nMilton DE 19968
X-APPLE-STRUCTURED-LOCATION;VALUE=URI;X-ADDRESS=110 Union Street\nMilton DE
  19968;X-APPLE-RADIUS=49;X-TITLE=110 Union Street:geo:38.778233,-75.310919
GEO:38.778233;-75.310919
SUMMARY:DDXS – A Tribute to the Music of Duran Duran & INXS
CLASS:PUBLIC
DESCRIPTION:About DDXS – A Tribute to the Music of Duran Duran & INXS Web
 site |\nYouTube | Instagram | Facebook DDXS transports you back in time to
 \nexperience the music and essence of two of the most iconic bands of\nthe
  1980’s and 1990’s – Duran Duran and INXS. With expertly\nexecuted m
 usical arrangements and vocals\, DDXS delivers a concert\nexperience like 
 no other\, performing the hits of these two legendary\nbands in one show\,
  with songs like “ Need you tonight” “ Never\ntear us apart” “ N
 ew sensation” “ Rio” and “Hungry like\nthe wolf” to name a few. 
 So\, Brush off your vinyl LP’s\, break out\nyour dancing shoes\, and com
 e along with us for a night of\nunforgettable music. Venue: Milton Theatre
 .
X-ALT-DESC;FMTTYPE=text/html:About DDXS – A Tribute to the Music of Duran
  Duran & INXS Website | YouTube | Instagram | Facebook DDXS transports you
  back in time to experience the music and essence of two of the most iconi
 c bands of the 1980’s and 1990’s – Duran Duran and INXS. With expert
 ly executed musical arrangements and vocals\, DDXS delivers a concert expe
 rience like no other\, performing the hits of these two legendary bands in
  one show\, with songs like “ Need you tonight” “ Never tear us apar
 t” “ New sensation” “ Rio” and “Hungry like the wolf” to nam
 e a few. So\, Brush off your vinyl LP’s\, break out your dancing shoes\,
  and come along with us for a night of unforgettable music. Venue: Milton 
 Theatre.
DTSTAMP:20260421T114308Z
END:VEVENT
END:VCALENDAR