BEGIN:VCALENDAR
VERSION:2.0
PRODID:SoDel
X-WR-CALNAME:Caroling in the Park and Tree Lighting
BEGIN:VEVENT
UID:188672023-11-27
DTSTART:20231128T000000Z
SEQUENCE:0
TRANSP:OPAQUE
DTEND:20231127T050000Z
LOCATION:20 West 4th Street\nSeaford Delaware 19973
X-APPLE-STRUCTURED-LOCATION;VALUE=URI;X-ADDRESS=20 West 4th Street\nSeaford
  Delaware 19973;X-APPLE-RADIUS=49;X-TITLE=20 West 4th Street:geo:38.641798
 ,-75.609261
GEO:38.641798;-75.609261
SUMMARY:Caroling in the Park and Tree Lighting
CLASS:PUBLIC
DESCRIPTION:The public is invited to join the singing celebration and cerem
 onial\nlighting of the big tree to help ring in the holiday season. \n
X-ALT-DESC;FMTTYPE=text/html:<p>The public is invited to join the singing c
 elebration and ceremonial lighting of the big tree to help ring in the hol
 iday season.&nbsp\;</p>
DTSTAMP:20260425T020913Z
END:VEVENT
END:VCALENDAR