BEGIN:VCALENDAR
VERSION:2.0
PRODID:SoDel
X-WR-CALNAME:Bruce in The USA + FIREWORKS Display - July 2 - Rocking The Do
 cks
BEGIN:VEVENT
UID:274322025-07-02
DTSTART;VALUE=DATE:20250702
SEQUENCE:0
TRANSP:OPAQUE
DTEND;VALUE=DATE:20250703
LOCATION:43 Cape Henlopen Drive\nLewes Delaware 19958
X-APPLE-STRUCTURED-LOCATION;VALUE=URI;X-ADDRESS=43 Cape Henlopen Drive\nLew
 es Delaware 19958;X-APPLE-RADIUS=49;X-TITLE=43 Cape Henlopen Drive:geo:38.
 782104,-75.118805
GEO:38.782104;-75.118805
SUMMARY:Bruce in The USA + FIREWORKS Display - July 2 - Rocking The Docks
CLASS:PUBLIC
DESCRIPTION:You won't want to miss this amazing evening of music\, sunset\,
  and\nfireworks on the water in Lewes!\n
X-ALT-DESC;FMTTYPE=text/html:<p>You won&#39\;t want to miss this amazing ev
 ening of music\, sunset\, and fireworks on the water in Lewes!</p>
X-MICROSOFT-CDO-ALLDAYEVENT:TRUE
DTSTAMP:20260422T091912Z
END:VEVENT
END:VCALENDAR