BEGIN:VCALENDAR
VERSION:2.0
PRODID:SoDel
X-WR-CALNAME:Bethany Beach Movies on the Beach
BEGIN:VEVENT
UID:141762023-08-21
DTSTART:20230822T003000Z
SEQUENCE:0
TRANSP:OPAQUE
DTEND:20230821T040000Z
SUMMARY:Bethany Beach Movies on the Beach
CLASS:PUBLIC
DESCRIPTION:ROCK DOG (2019) \n\nJUNE 5     \n\n \n\nPUSS IN BOOTS: TH
 E LAST WISH (2022) \n\nJUNE 12 \n\n \n\nSPIRIT UNTAMED (2021)  \n\n
 JUNE 19               \n\n \n\nCHEAPER BY THE DOZEN (2003) \n\n
 JUNE 26    \n\n \n\nRUMBLE (2021)\n\nJULY 3 \n\nRATED PG– \n\n \n
 \nTHE LORAX (2012)\n\nJULY 10 \n\nRATED PG– \n\n_THIS MOVIE CORRELATES
  TO THE 2B1 CONCERT BEING SHOWN ON THE BANDSTAND\nWEDNESDAY JULY 12__TH__
  AT 7:30._\n\n \n\nHIDDEN FIGURES (2017)   \n\nJULY 17\n\nRATED PG\n\
 n \n\nMIDWAY (2019) \n\nJULY 24\n\nRATED PG -13\n\n_BE SURE TO ATTEND P
 ERIERS DAY ON THE BANDSTAND JULY 27__TH__ AND\nLEARN ABOUT THE TWINNING R
 ELATIONSHIP BETWEEN BETHANY BEACH AND\nPERIERS FRANCE._\n\n \n\nHARRY POT
 TER & THE SORCERER’S STONE (2001) \n\nJULY 31 (HARRY POTTER’S BIRTHD
 AY)\n\nRATED PG  \n\n_THIS MOVIE IS SPONSORED BY THE SOUTH COASTAL LIBRA
 RY. _\n\n \n\nPAW PATROL: THE MOVIE  (2021) \n\nAUGUST 7        
       \n\nRATED G  \n\n \n\nELVIS  (2022) \n\nAUGUST 14     
        \n\nRATED PG-13 \n\n_EXPERIENCE JESSE GARRON’S TRIBUTE TO EL
 VIS AUGUST 17__TH__ AT 7:30\nP.M. ON THE BANDSTAND__._\n\n \n\nMOANA (2
 016)  \n\nAUGUST 21    \n\n \n\n \n
X-ALT-DESC;FMTTYPE=text/html:<p><span style=\"font-size:10px\;\"><span styl
 e=\"line-height:107%\"><span style=\"font-family:Calibri\,sans-serif\"><b>
 <span style=\"border: 1pt none windowtext\; padding: 0in\;\"><span comic=\
 "\" ms=\"\" sans=\"\" style=\"font-family:\">ROCK DOG</span></span></b><b>
 &nbsp\;</b><span style=\"border: 1pt none windowtext\; padding: 0in\;\"><s
 pan comic=\"\" ms=\"\" sans=\"\" style=\"font-family:\">(2019)&nbsp\;</spa
 n></span></span></span></span></p>\n\n<p><span style=\"font-size:10px\;\">
 <span style=\"line-height:107%\"><span style=\"font-family:Calibri\,sans-s
 erif\"><b><span style=\"border: 1pt none windowtext\; padding: 0in\;\"><sp
 an comic=\"\" ms=\"\" sans=\"\" style=\"font-family:\">JUNE 5</span></span
 ></b>&nbsp\; &nbsp\; &nbsp\;</span></span></span></p>\n\n<p>&nbsp\;</p>\n\
 n<p><span style=\"font-size:10px\;\"><span style=\"line-height:107%\"><spa
 n style=\"font-family:Calibri\,sans-serif\"><b><span style=\"border: 1pt n
 one windowtext\; padding: 0in\;\"><span comic=\"\" ms=\"\" sans=\"\" style
 =\"font-family:\">PUSS IN BOOTS: THE LAST WISH</span></span></b><span styl
 e=\"border: 1pt none windowtext\; padding: 0in\;\"><span comic=\"\" ms=\"\
 " sans=\"\" style=\"font-family:\">&nbsp\;(2022)&nbsp\;</span></span></spa
 n></span></span></p>\n\n<p><span style=\"font-size:10px\;\"><span style=\"
 line-height:107%\"><span style=\"font-family:Calibri\,sans-serif\"><b><spa
 n style=\"border: 1pt none windowtext\; padding: 0in\;\"><span comic=\"\" 
 ms=\"\" sans=\"\" style=\"font-family:\">JUNE 12</span></span></b>&nbsp\;<
 /span></span></span></p>\n\n<p>&nbsp\;</p>\n\n<p><span style=\"font-size:1
 0px\;\"><span style=\"line-height:107%\"><span style=\"font-family:Calibri
 \,sans-serif\"><b><span style=\"border: 1pt none windowtext\; padding: 0in
 \;\"><span comic=\"\" ms=\"\" sans=\"\" style=\"font-family:\">SPIRIT UNTA
 MED</span></span></b><b>&nbsp\;</b><span style=\"border: 1pt none windowte
 xt\; padding: 0in\;\"><span cambria=\"\" style=\"font-family:\">(</span></
 span><span style=\"border: 1pt none windowtext\; padding: 0in\;\"><span co
 mic=\"\" ms=\"\" sans=\"\" style=\"font-family:\">2021)</span></span>&nbsp
 \;&nbsp\;</span></span></span></p>\n\n<p><span style=\"font-size:10px\;\">
 <span style=\"line-height:107%\"><span style=\"font-family:Calibri\,sans-s
 erif\"><b><span style=\"border: 1pt none windowtext\; padding: 0in\;\"><sp
 an comic=\"\" ms=\"\" sans=\"\" style=\"font-family:\">JUNE 19</span></spa
 n></b>&nbsp\; &nbsp\; &nbsp\; &nbsp\; &nbsp\; &nbsp\; &nbsp\; &nbsp\;</spa
 n></span></span></p>\n\n<p>&nbsp\;</p>\n\n<p><span style=\"font-size:10px\
 ;\"><span style=\"line-height:107%\"><span style=\"font-family:Calibri\,sa
 ns-serif\"><b><span style=\"border: 1pt none windowtext\; padding: 0in\;\"
 ><span comic=\"\" ms=\"\" sans=\"\" style=\"font-family:\">CHEAPER BY THE 
 DOZEN&nbsp\;</span></span></b><span style=\"border: 1pt none windowtext\; 
 padding: 0in\;\"><span comic=\"\" ms=\"\" sans=\"\" style=\"font-family:\"
 >(2003)&nbsp\;</span></span></span></span></span></p>\n\n<p><span style=\"
 font-size:10px\;\"><span style=\"line-height:107%\"><span style=\"font-fam
 ily:Calibri\,sans-serif\"><b><span style=\"border: 1pt none windowtext\; p
 adding: 0in\;\"><span comic=\"\" ms=\"\" sans=\"\" style=\"font-family:\">
 JUNE 26</span></span></b>&nbsp\;&nbsp\; &nbsp\;</span></span></span></p>\n
 \n<p>&nbsp\;</p>\n\n<p><span style=\"font-size:10px\;\"><span style=\"line
 -height:107%\"><span style=\"font-family:Calibri\,sans-serif\"><b><span st
 yle=\"border: 1pt none windowtext\; padding: 0in\;\"><span comic=\"\" ms=\
 "\" sans=\"\" style=\"font-family:\">RUMBLE (2021)</span></span></b></span
 ></span></span></p>\n\n<p><span style=\"font-size:10px\;\"><span style=\"l
 ine-height:107%\"><span style=\"font-family:Calibri\,sans-serif\"><b><span
  style=\"border: 1pt none windowtext\; padding: 0in\;\"><span comic=\"\" m
 s=\"\" sans=\"\" style=\"font-family:\">JULY 3</span></span></b>&nbsp\;</s
 pan></span></span></p>\n\n<p><span style=\"font-size:10px\;\"><span style=
 \"line-height:12.05pt\"><span style=\"font-family:Calibri\,sans-serif\"><b
 ><span style=\"border: 1pt none windowtext\; padding: 0in\;\"><span georgi
 a=\"\" style=\"font-family:\">Rated PG</span></span></b><span style=\"bord
 er: 1pt none windowtext\; padding: 0in\;\"><span georgia=\"\" style=\"font
 -family:\">&ndash\;</span></span>&nbsp\;</span></span></span></p>\n\n<p>&n
 bsp\;</p>\n\n<p><span style=\"font-size:10px\;\"><span style=\"line-height
 :107%\"><span style=\"font-family:Calibri\,sans-serif\"><b><span style=\"b
 order: 1pt none windowtext\; padding: 0in\;\"><span comic=\"\" ms=\"\" san
 s=\"\" style=\"font-family:\">THE LORAX (2012)</span></span></b></span></s
 pan></span></p>\n\n<p><span style=\"font-size:10px\;\"><span style=\"line-
 height:107%\"><span style=\"font-family:Calibri\,sans-serif\"><b><span sty
 le=\"border: 1pt none windowtext\; padding: 0in\;\"><span comic=\"\" ms=\"
 \" sans=\"\" style=\"font-family:\">JULY 10</span></span></b>&nbsp\;</span
 ></span></span></p>\n\n<p><span style=\"font-size:10px\;\"><span style=\"l
 ine-height:12.05pt\"><span style=\"font-family:Calibri\,sans-serif\"><b><s
 pan style=\"border: 1pt none windowtext\; padding: 0in\;\"><span georgia=\
 "\" style=\"font-family:\">Rated PG</span></span></b><span style=\"border:
  1pt none windowtext\; padding: 0in\;\"><span georgia=\"\" style=\"font-fa
 mily:\">&ndash\;</span></span>&nbsp\;</span></span></span></p>\n\n<p><span
  style=\"font-size:10px\;\"><span style=\"line-height:12.05pt\"><span styl
 e=\"font-family:Calibri\,sans-serif\"><b><i><span style=\"border: 1pt none
  windowtext\; padding: 0in\;\"><span georgia=\"\" style=\"font-family:\">T
 his movie correlates to the 2b1 concert being shown on the Bandstand Wedne
 sday July 12</span></span></i></b><b><i><sup><span style=\"border: 1pt non
 e windowtext\; padding: 0in\;\"><span georgia=\"\" style=\"font-family:\">
 th</span></span></sup></i></b><b><i><span style=\"border: 1pt none windowt
 ext\; padding: 0in\;\"><span georgia=\"\" style=\"font-family:\">&nbsp\;at
  7:30.</span></span></i></b></span></span></span></p>\n\n<p>&nbsp\;</p>\n\
 n<p><span style=\"font-size:10px\;\"><span style=\"line-height:107%\"><spa
 n style=\"font-family:Calibri\,sans-serif\"><b><span style=\"border: 1pt n
 one windowtext\; padding: 0in\;\"><span comic=\"\" ms=\"\" sans=\"\" style
 =\"font-family:\">HIDDEN FIGURES</span></span></b><span style=\"border: 1p
 t none windowtext\; padding: 0in\;\"><span comic=\"\" ms=\"\" sans=\"\" st
 yle=\"font-family:\">&nbsp\;(2017)&nbsp\; &nbsp\;</span></span></span></sp
 an></span></p>\n\n<p><span style=\"font-size:10px\;\"><span style=\"line-h
 eight:107%\"><span style=\"font-family:Calibri\,sans-serif\"><b><span styl
 e=\"border: 1pt none windowtext\; padding: 0in\;\"><span comic=\"\" ms=\"\
 " sans=\"\" style=\"font-family:\">JULY 17</span></span></b></span></span>
 </span></p>\n\n<p><span style=\"font-size:10px\;\"><span style=\"line-heig
 ht:12.05pt\"><span style=\"font-family:Calibri\,sans-serif\"><b><span styl
 e=\"border: 1pt none windowtext\; padding: 0in\;\"><span georgia=\"\" styl
 e=\"font-family:\">Rated PG</span></span></b></span></span></span></p>\n\n
 <p>&nbsp\;</p>\n\n<p><span style=\"font-size:10px\;\"><span style=\"line-h
 eight:107%\"><span style=\"font-family:Calibri\,sans-serif\"><b><span styl
 e=\"border: 1pt none windowtext\; padding: 0in\;\"><span comic=\"\" ms=\"\
 " sans=\"\" style=\"font-family:\">MIDWAY&nbsp\;</span></span></b><span st
 yle=\"border: 1pt none windowtext\; padding: 0in\;\"><span comic=\"\" ms=\
 "\" sans=\"\" style=\"font-family:\">(2019)&nbsp\;</span></span></span></s
 pan></span></p>\n\n<p><span style=\"font-size:10px\;\"><span style=\"line-
 height:107%\"><span style=\"font-family:Calibri\,sans-serif\"><b><span sty
 le=\"border: 1pt none windowtext\; padding: 0in\;\"><span comic=\"\" ms=\"
 \" sans=\"\" style=\"font-family:\">JULY 24</span></span></b></span></span
 ></span></p>\n\n<p><span style=\"font-size:10px\;\"><span style=\"line-hei
 ght:12.05pt\"><span style=\"font-family:Calibri\,sans-serif\"><b><span sty
 le=\"border: 1pt none windowtext\; padding: 0in\;\"><span georgia=\"\" sty
 le=\"font-family:\">Rated PG -13</span></span></b></span></span></span></p
 >\n\n<p><span style=\"font-size:10px\;\"><span style=\"line-height:12.05pt
 \"><span style=\"font-family:Calibri\,sans-serif\"><b><i><span style=\"bor
 der: 1pt none windowtext\; padding: 0in\;\"><span georgia=\"\" style=\"fon
 t-family:\">Be sure to attend Periers Day on the Bandstand July 27</span><
 /span></i></b><b><i><sup><span style=\"border: 1pt none windowtext\; paddi
 ng: 0in\;\"><span georgia=\"\" style=\"font-family:\">th</span></span></su
 p></i></b><b><i><span style=\"border: 1pt none windowtext\; padding: 0in\;
 \"><span georgia=\"\" style=\"font-family:\">&nbsp\;and learn about the tw
 inning relationship between Bethany Beach and Periers France.</span></span
 ></i></b></span></span></span></p>\n\n<p>&nbsp\;</p>\n\n<p><span style=\"f
 ont-size:10px\;\"><span style=\"line-height:107%\"><span style=\"font-fami
 ly:Calibri\,sans-serif\"><b><span style=\"border: 1pt none windowtext\; pa
 dding: 0in\;\"><span comic=\"\" ms=\"\" sans=\"\" style=\"font-family:\">H
 ARRY POTTER &amp\; THE SORCERER&rsquo\;S STONE&nbsp\;</span></span></b><sp
 an style=\"border: 1pt none windowtext\; padding: 0in\;\"><span comic=\"\"
  ms=\"\" sans=\"\" style=\"font-family:\">(2001)&nbsp\;</span></span></spa
 n></span></span></p>\n\n<p><span style=\"font-size:10px\;\"><span style=\"
 line-height:107%\"><span style=\"font-family:Calibri\,sans-serif\"><b><spa
 n style=\"border: 1pt none windowtext\; padding: 0in\;\"><span comic=\"\" 
 ms=\"\" sans=\"\" style=\"font-family:\">JULY 31 (Harry Potter&rsquo\;s Bi
 rthday)</span></span></b></span></span></span></p>\n\n<p><span style=\"fon
 t-size:10px\;\"><span style=\"line-height:12.05pt\"><span style=\"font-fam
 ily:Calibri\,sans-serif\"><b><span style=\"border: 1pt none windowtext\; p
 adding: 0in\;\"><span georgia=\"\" style=\"font-family:\">Rated PG</span><
 /span></b>&nbsp\;<b>&nbsp\;</b></span></span></span></p>\n\n<p><span style
 =\"font-size:10px\;\"><span style=\"line-height:12.05pt\"><span style=\"fo
 nt-family:Calibri\,sans-serif\"><b><i><span style=\"border: 1pt none windo
 wtext\; padding: 0in\;\"><span georgia=\"\" style=\"font-family:\">This mo
 vie is sponsored by the South Coastal Library.&nbsp\;</span></span></i></b
 ></span></span></span></p>\n\n<p>&nbsp\;</p>\n\n<p><span style=\"font-size
 :10px\;\"><span style=\"line-height:107%\"><span style=\"font-family:Calib
 ri\,sans-serif\"><b><span style=\"border: 1pt none windowtext\; padding: 0
 in\;\"><span comic=\"\" ms=\"\" sans=\"\" style=\"font-family:\">PAW PATRO
 L: THE MOVIE</span></span></b><b>&nbsp\;&nbsp\;</b><span style=\"border: 1
 pt none windowtext\; padding: 0in\;\"><span comic=\"\" ms=\"\" sans=\"\" s
 tyle=\"font-family:\">(2021)&nbsp\;</span></span></span></span></span></p>
 \n\n<p><span style=\"font-size:10px\;\"><span style=\"line-height:107%\"><
 span style=\"font-family:Calibri\,sans-serif\"><b><span style=\"border: 1p
 t none windowtext\; padding: 0in\;\"><span comic=\"\" ms=\"\" sans=\"\" st
 yle=\"font-family:\">AUGUST 7</span></span></b><b>&nbsp\; &nbsp\; &nbsp\;&
 nbsp\;</b>&nbsp\; &nbsp\; &nbsp\; &nbsp\;&nbsp\;</span></span></span></p>\
 n\n<p><span style=\"font-size:10px\;\"><span style=\"line-height:12.05pt\"
 ><span style=\"font-family:Calibri\,sans-serif\"><b><span style=\"border: 
 1pt none windowtext\; padding: 0in\;\"><span georgia=\"\" style=\"font-fam
 ily:\">Rated G&nbsp\;</span></span></b>&nbsp\;</span></span></span></p>\n\
 n<p>&nbsp\;</p>\n\n<p><span style=\"font-size:10px\;\"><span style=\"line-
 height:107%\"><span style=\"font-family:Calibri\,sans-serif\"><b><span sty
 le=\"border: 1pt none windowtext\; padding: 0in\;\"><span comic=\"\" ms=\"
 \" sans=\"\" style=\"font-family:\">ELVIS</span></span></b><b>&nbsp\;&nbsp
 \;</b><span style=\"border: 1pt none windowtext\; padding: 0in\;\"><span c
 omic=\"\" ms=\"\" sans=\"\" style=\"font-family:\">(2022)&nbsp\;</span></s
 pan></span></span></span></p>\n\n<p><span style=\"font-size:10px\;\"><span
  style=\"line-height:107%\"><span style=\"font-family:Calibri\,sans-serif\
 "><b><span style=\"border: 1pt none windowtext\; padding: 0in\;\"><span co
 mic=\"\" ms=\"\" sans=\"\" style=\"font-family:\">AUGUST 14</span></span><
 /b><b>&nbsp\; &nbsp\;&nbsp\;</b>&nbsp\; &nbsp\; &nbsp\; &nbsp\;&nbsp\;</sp
 an></span></span></p>\n\n<p><span style=\"font-size:10px\;\"><span style=\
 "line-height:12.05pt\"><span style=\"font-family:Calibri\,sans-serif\"><b>
 <span style=\"border: 1pt none windowtext\; padding: 0in\;\"><span georgia
 =\"\" style=\"font-family:\">Rated PG-13&nbsp\;</span></span></b></span></
 span></span></p>\n\n<p><span style=\"font-size:10px\;\"><span style=\"line
 -height:12.05pt\"><span style=\"font-family:Calibri\,sans-serif\"><b><i><s
 pan style=\"border: 1pt none windowtext\; padding: 0in\;\"><span georgia=\
 "\" style=\"font-family:\">Experience Jesse Garron&rsquo\;s Tribute to Elv
 is August 17</span></span></i></b><b><i><sup><span style=\"border: 1pt non
 e windowtext\; padding: 0in\;\"><span georgia=\"\" style=\"font-family:\">
 th</span></span></sup></i></b><b><i><span style=\"border: 1pt none windowt
 ext\; padding: 0in\;\"><span georgia=\"\" style=\"font-family:\">&nbsp\;at
  7:30 p.m. on the Bandstand</span></span></i></b><i><span style=\"border: 
 1pt none windowtext\; padding: 0in\;\"><span georgia=\"\" style=\"font-fam
 ily:\">.</span></span></i></span></span></span></p>\n\n<p>&nbsp\;</p>\n\n<
 p><span style=\"font-size:10px\;\"><span style=\"line-height:107%\"><span 
 style=\"font-family:Calibri\,sans-serif\"><b><span style=\"border: 1pt non
 e windowtext\; padding: 0in\;\"><span comic=\"\" ms=\"\" sans=\"\" style=\
 "font-family:\">MOANA</span></span></b><b>&nbsp\;</b><span style=\"border:
  1pt none windowtext\; padding: 0in\;\"><span comic=\"\" ms=\"\" sans=\"\"
  style=\"font-family:\">(2016) &nbsp\;</span></span></span></span></span><
 /p>\n\n<p><span style=\"font-size:10px\;\"><span style=\"line-height:107%\
 "><span style=\"font-family:Calibri\,sans-serif\"><b><span style=\"border:
  1pt none windowtext\; padding: 0in\;\"><span comic=\"\" ms=\"\" sans=\"\"
  style=\"font-family:\">AUGUST 21</span></span></b>&nbsp\; &nbsp\;&nbsp\;<
 /span></span></span></p>\n\n<p style=\"margin-bottom:11px\">&nbsp\;</p>\n\
 n<p>&nbsp\;</p>
DTSTAMP:20260424T185249Z
END:VEVENT
END:VCALENDAR