BEGIN:VCALENDAR
VERSION:2.0
PRODID:SoDel
X-WR-CALNAME:Benedetta
BEGIN:VEVENT
UID:82652021-12-10
DTSTART;VALUE=DATE:20211210
SEQUENCE:0
TRANSP:OPAQUE
DTEND;VALUE=DATE:20211211
SUMMARY:Benedetta
CLASS:PUBLIC
DESCRIPTION:Bendetta is an intriguing biographical drama about a 17th centu
 ry\nnovice nun who has a forbidden love affair. Benedetta is based on\nhi
 storian Judith C. Brown's 1986 book\, Immodest Acts: The Life of a\nLesbi
 an Nun in Renaissance Italy which covers the controversy\nsurrounding the
  life of Benedetta Carlini\, an Italian nun who\nallegedly experienced int
 ense spiritual visions and\nstigmata. Virginie Efira stars as the titular
  nun\, who blurs the line\nbetween saint and sinner in her religious fervo
 r\, pushing both\nreligious and sexual boundaries\, and raising questions 
 within her\nconvent. Charlotte Rampling and Lambert Wilson also star a
 s two\nfigures within the church attempting to uncover the truth behind\nB
 enedetta's shocking religious visions and the motives behind them\nthat th
 reaten to shake the Church to its core. [2021\, France\, 131 min\,\nRated:
  NR\, in French with English subtitles] Robert Kojder of\nFlickering Myth 
 writes\, “Benedetta functions beyond its\n‘sacrilegious’ concept int
 o a moving tale of romance\, diabolical\noppression\, twisted comedy\, fre
 nzied plague fear\, and transfixing\nvisions that shock and penetrate the 
 mind.” Barry Hertz of Glove and\nMail says\, “While Benedetta the woma
 n may have been touched by\nHeaven or cursed from Hell or neither\, Benede
 tta the film is\nundoubtedly a miracle.” Venue: Cinema Art Theater. Pres
 enter:\nRehoboth Beach Film Society.\n
X-ALT-DESC;FMTTYPE=text/html:<p>Bendetta is an intriguing biographical dram
 a about a 17th century novice nun who has a forbidden love affair. Benedet
 ta&nbsp\;is based on historian Judith C. Brown&#39\;s 1986 book\,&nbsp\;Im
 modest Acts: The Life of a Lesbian Nun in Renaissance Italy&nbsp\;which co
 vers the controversy surrounding the life of Benedetta Carlini\, an Italia
 n nun who allegedly experienced intense spiritual visions and stigmata.&nb
 sp\;Virginie Efira stars as the titular nun\, who blurs the line between s
 aint and sinner in her religious fervor\, pushing both religious and sexua
 l boundaries\, and raising questions within her convent.&nbsp\;Charlotte R
 ampling&nbsp\;and&nbsp\;Lambert Wilson&nbsp\;also star as two figures with
 in the church attempting to uncover the truth behind Benedetta&#39\;s shoc
 king religious visions and the motives behind them that threaten to shake 
 the Church to its core. [2021\, France\, 131 min\, Rated: NR\, in French w
 ith English subtitles] Robert Kojder of Flickering Myth writes\, &ldquo\;B
 enedetta functions beyond its &lsquo\;sacrilegious&rsquo\; concept into a 
 moving tale of romance\, diabolical oppression\, twisted comedy\, frenzied
  plague fear\, and transfixing visions that shock and penetrate the mind.&
 rdquo\; Barry Hertz of Glove and Mail says\, &ldquo\;While Benedetta the w
 oman may have been touched by Heaven or cursed from Hell or neither\, Bene
 detta the film is undoubtedly a miracle.&rdquo\; Venue: Cinema Art Theater
 . Presenter: Rehoboth Beach Film Society.</p>
X-MICROSOFT-CDO-ALLDAYEVENT:TRUE
DTSTAMP:20260422T173134Z
END:VEVENT
END:VCALENDAR