BEGIN:VCALENDAR
VERSION:2.0
PRODID:SoDel
X-WR-CALNAME:Backstage Pass Party
BEGIN:VEVENT
UID:260002025-04-05
DTSTART:20250406T000000Z
SEQUENCE:0
TRANSP:OPAQUE
DTEND:20250406T020000Z
LOCATION:1301 Coastal Highway\nDewey Beach Delaware 19971
X-APPLE-STRUCTURED-LOCATION;VALUE=URI;X-ADDRESS=1301 Coastal Highway\nDewey
  Beach Delaware 19971;X-APPLE-RADIUS=49;X-TITLE=1301 Coastal Highway:geo:3
 8.689172,-75.075046
GEO:38.689172;-75.075046
SUMMARY:Backstage Pass Party
CLASS:PUBLIC
DESCRIPTION:Get ready for an epic experience and see the scene that goes on
  behind\nthe curtain at your favorite concert. Experience what it's like t
 o\nrock out with the band\, hang with the crew\, take in the sites and\npa
 rtake in the fun!\n\nYou never know what you’ll see! Live music by Chord
 uroy\, food and\ndrinks\, including beer\, wine and canned cocktails\, awa
 it you at this\nfun community event.\n\nGeneral Admission is $99\, with VI
 P Experience at $199.*\n
X-ALT-DESC;FMTTYPE=text/html:<p>Get ready for an epic experience and see th
 e scene that goes on behind the curtain at your favorite concert. Experien
 ce what it&#39\;s like to rock out with the band\, hang with the crew\, ta
 ke in the sites and partake in the fun!<br />\n<br />\nYou never know what
  you&rsquo\;ll see! Live music by Chorduroy\, food and drinks\, including 
 beer\, wine and canned cocktails\, await you at this fun community event.<
 br />\n<br />\nGeneral Admission is $99\, with VIP Experience at $199.*</p
 >
DTSTAMP:20260423T042039Z
END:VEVENT
END:VCALENDAR