BEGIN:VCALENDAR
VERSION:2.0
PRODID:SoDel
X-WR-CALNAME:ANNIE: THE MUSICAL
BEGIN:VEVENT
UID:244462024-12-07
DTSTART:20241208T003000Z
SEQUENCE:0
TRANSP:OPAQUE
DTEND:20241207T050000Z
LOCATION:110 Union Street\nMilton DE 19968
X-APPLE-STRUCTURED-LOCATION;VALUE=URI;X-ADDRESS=110 Union Street\nMilton DE
  19968;X-APPLE-RADIUS=49;X-TITLE=110 Union Street:geo:38.778233,-75.310919
GEO:38.778233;-75.310919
SUMMARY:ANNIE: THE MUSICAL
CLASS:PUBLIC
DESCRIPTION:Annie: The Musical Book by THOMAS MEEHAN Music by CHARLES STROU
 SE\nLyrics by MARTIN CHARNIN Original Broadway Production Directed by\nMAR
 TIN CHARNIN Based on “Little Orphan Annie”® By Permission of\nTribune
  Content Agency\, LLC Based on the popular comic strip by Harold\nGray\, A
 nnie has become a worldwide phenomenon and was the winner of\nseven Tony A
 wards\, including Best Musical. The beloved book and score\nby Tony Award 
 winners\, Thomas Meehan\, Charles Strouse and Martin\nCharnin\, features s
 ome of the greatest musical theatre hits ever\nwritten\, including “Tomo
 rrow.” With equal measures of pluck and\npositivity\, little orphan Anni
 e charms everyone’s hearts despite a\nnext-to-nothing start in 1930s New
  York City. She is determined to\nfind the parents who abandoned her years
  ago on the doorstep of a New\nYork City Orphanage that is run by the crue
 l\, embittered Miss\nHannigan. With the help of the other girls in the Orp
 hanage\, Annie\nescapes to the wondrous world of NYC. In adventure after f
 un-filled\nadventure\, Annie foils Miss Hannigan’s evil machinations… 
 and even\nbefriends President Franklin Delano Roosevelt! She finds a new h
 ome\nand family in billionaire\, Oliver Warbucks\, his personal secretary\
 ,\nGrace Farrell\, and a lovable mutt named Sandy. ANNIE is presented\nthr
 ough special arrangement with Music Theatre International (MTI).\nAll Auth
 orized performance materials are also supplied by MTI.\nwww.mtishows.com A
 bout Milton Theatre Mainstage Production At Milton\nMainstage Productions\
 , the art of storytelling is elevated to an\nunparalleled realm of excelle
 nce! With a firm foundation rooted in\nprofessionalism\, we bring to life 
 stories that provoke thought\, stir\nemotions\, and ignite conversations. 
 Our dedication to precision in\nevery aspect – from casting and directio
 n to set design and\ntechnical execution – ensures that our productions 
 resonate not only\nwithin the confines of our theater\, but also within th
 e hearts and\nminds of our discerning audience. Milton Mainstage Productio
 ns prides\nitself on its unwavering commitment to fostering emerging talen
 t and\ncollaborating with seasoned artists. Our diverse repertoire spans\n
 genres\, eras\, and cultures\, reflecting the rich tapestry of human\nexpe
 riences. Whether you’re a dedicated theatre enthusiast\, a casual\ncultu
 ral explorer\, or an aspiring performer\, we extend an open\ninvitation to
  partake in the magic we conjure on our stage! Venue:\nMilton Theatre.
X-ALT-DESC;FMTTYPE=text/html:Annie: The Musical Book by THOMAS MEEHAN Music
  by CHARLES STROUSE Lyrics by MARTIN CHARNIN Original Broadway Production 
 Directed by MARTIN CHARNIN Based on “Little Orphan Annie”® By Permiss
 ion of Tribune Content Agency\, LLC Based on the popular comic strip by Ha
 rold Gray\, Annie has become a worldwide phenomenon and was the winner of 
 seven Tony Awards\, including Best Musical. The beloved book and score by 
 Tony Award winners\, Thomas Meehan\, Charles Strouse and Martin Charnin\, 
 features some of the greatest musical theatre hits ever written\, includin
 g “Tomorrow.” With equal measures of pluck and positivity\, little orp
 han Annie charms everyone’s hearts despite a next-to-nothing start in 19
 30s New York City. She is determined to find the parents who abandoned her
  years ago on the doorstep of a New York City Orphanage that is run by the
  cruel\, embittered Miss Hannigan. With the help of the other girls in the
  Orphanage\, Annie escapes to the wondrous world of NYC. In adventure afte
 r fun-filled adventure\, Annie foils Miss Hannigan’s evil machinations
 … and even befriends President Franklin Delano Roosevelt! She finds a ne
 w home and family in billionaire\, Oliver Warbucks\, his personal secretar
 y\, Grace Farrell\, and a lovable mutt named Sandy. ANNIE is presented thr
 ough special arrangement with Music Theatre International (MTI). All Autho
 rized performance materials are also supplied by MTI. www.mtishows.com Abo
 ut Milton Theatre Mainstage Production At Milton Mainstage Productions\, t
 he art of storytelling is elevated to an unparalleled realm of excellence!
  With a firm foundation rooted in professionalism\, we bring to life stori
 es that provoke thought\, stir emotions\, and ignite conversations. Our de
 dication to precision in every aspect – from casting and direction to se
 t design and technical execution – ensures that our productions resonate
  not only within the confines of our theater\, but also within the hearts 
 and minds of our discerning audience. Milton Mainstage Productions prides 
 itself on its unwavering commitment to fostering emerging talent and colla
 borating with seasoned artists. Our diverse repertoire spans genres\, eras
 \, and cultures\, reflecting the rich tapestry of human experiences. Wheth
 er you’re a dedicated theatre enthusiast\, a casual cultural explorer\, 
 or an aspiring performer\, we extend an open invitation to partake in the 
 magic we conjure on our stage! Venue: Milton Theatre.
DTSTAMP:20260426T040710Z
END:VEVENT
END:VCALENDAR