BEGIN:VCALENDAR
VERSION:2.0
PRODID:SoDel
X-WR-CALNAME:ABBA The Concert
BEGIN:VEVENT
UID:71262021-08-12
DTSTART:20210812T230000Z
SEQUENCE:0
TRANSP:OPAQUE
DTEND:20210812T040000Z
LOCATION:31806 Lake View Drive\nSelbyville DE 19975
X-APPLE-STRUCTURED-LOCATION;VALUE=URI;X-ADDRESS=31806 Lake View Drive\nSelb
 yville DE 19975;X-APPLE-RADIUS=49;X-TITLE=31806 Lake View Drive:geo:38.465
 810,-75.112030
GEO:38.465810;-75.112030
SUMMARY:ABBA The Concert
CLASS:PUBLIC
DESCRIPTION:21st Century Artists has been presenting its ABBA tribute show\
 nthroughout North America for well over two decades\, known as ABBA The\nM
 usic\, ABBA The Concert and ABBA The Hits. The audience and press all\nagr
 ee – “This is the closest to ABBA you’ll ever get” as ABBA\nThe Co
 ncert brings one of the greatest pop phenomena back to life.\nABBA The Con
 cert continues to be the top ABBA tribute group in the\nworld\, dazzling a
 ll who see with their fantastic performance while\nplaying the most iconic
  hits from ABBA\, including “Mamma Mia\,”\n“S.O.S\,” “Money\, Mo
 ney\, Money\,” “The Winner Takes All\,”\n“Waterloo\,” “Gimme\,
  Gimme\, Gimme\,” and “Dancing Queen.” \nCome dance\, come sing\, h
 aving the time of your life at THE ULTIMATE\nTRIBUTE CELEBRATION!  Venue:
  Freeman Arts Pavilion. Presenter: Joshua\nM. Freeman Foundation.
X-ALT-DESC;FMTTYPE=text/html:21st Century Artists has been presenting its A
 BBA tribute show throughout North America for well over two decades\, know
 n as ABBA The Music\, ABBA The Concert and ABBA The Hits. The audience and
  press all agree – “This is the closest to ABBA you’ll ever get” a
 s ABBA The Concert brings one of the greatest pop phenomena back to life. 
 ABBA The Concert continues to be the top ABBA tribute group in the world\,
  dazzling all who see with their fantastic performance while playing the m
 ost iconic hits from ABBA\, including “Mamma Mia\,” “S.O.S\,” “M
 oney\, Money\, Money\,” “The Winner Takes All\,” “Waterloo\,” 
 “Gimme\, Gimme\, Gimme\,” and “Dancing Queen.”  Come dance\, come
  sing\, having the time of your life at THE ULTIMATE TRIBUTE CELEBRATION!
   Venue: Freeman Arts Pavilion. Presenter: Joshua M. Freeman Foundation.
DTSTAMP:20260426T034145Z
END:VEVENT
END:VCALENDAR