BEGIN:VCALENDAR
VERSION:2.0
PRODID:SoDel
X-WR-CALNAME:80’s Rewind Murder Mystery
BEGIN:VEVENT
UID:323862026-03-04
DTSTART:20260304T233000Z
SEQUENCE:0
TRANSP:OPAQUE
DTEND:20260304T050000Z
LOCATION:110 Union Street\nMilton DE 19968
X-APPLE-STRUCTURED-LOCATION;VALUE=URI;X-ADDRESS=110 Union Street\nMilton DE
  19968;X-APPLE-RADIUS=49;X-TITLE=110 Union Street:geo:38.778233,-75.310919
GEO:38.778233;-75.310919
SUMMARY:80’s Rewind Murder Mystery
CLASS:PUBLIC
DESCRIPTION:A Killer High School Reunion – Everybody will be cutting Foot
 loose\nin this Totally Tubular comedy murder mystery reuniting the class o
 f\n1985! Jennifer Grey McFly is sure it is her time after 17 years as\nass
 istant principal but when the star quarterback of the 1985\nChampionship F
 ootball Team returns\, mayhem might ensue! Join a crazy\ncast of character
 s from familiar movies and TV and some AWESOME music\nas we discover who w
 ill be the next principal of Franklin Pierce High\nschool! As part of this
  interactive performance\, all tickets will be\nserved: 1. Specialty Cockt
 ail or Mocktail\; 2. Charcuterie Cup\; 3.\nDessert. Venue: Milton Theatre.
X-ALT-DESC;FMTTYPE=text/html:A Killer High School Reunion – Everybody wil
 l be cutting Footloose in this Totally Tubular comedy murder mystery reuni
 ting the class of 1985! Jennifer Grey McFly is sure it is her time after 1
 7 years as assistant principal but when the star quarterback of the 1985 C
 hampionship Football Team returns\, mayhem might ensue! Join a crazy cast 
 of characters from familiar movies and TV and some AWESOME music as we dis
 cover who will be the next principal of Franklin Pierce High school! As pa
 rt of this interactive performance\, all tickets will be served: 1. Specia
 lty Cocktail or Mocktail\; 2. Charcuterie Cup\; 3. Dessert. Venue: Milton 
 Theatre.
DTSTAMP:20260421T102213Z
END:VEVENT
END:VCALENDAR