BEGIN:VCALENDAR
VERSION:2.0
PRODID:SoDel
X-WR-CALNAME:41st Annual Holiday Fair
BEGIN:VEVENT
UID:264322025-11-01
DTSTART;VALUE=DATE:20251101
SEQUENCE:0
TRANSP:OPAQUE
DTEND;VALUE=DATE:20251102
LOCATION:12 Dodds Lane\nRehoboth Beach DE 19971
X-APPLE-STRUCTURED-LOCATION;VALUE=URI;X-ADDRESS=12 Dodds Lane\nRehoboth Bea
 ch DE 19971;X-APPLE-RADIUS=49;X-TITLE=12 Dodds Lane:geo:38.725028,-75.0858
 86
GEO:38.725028;-75.085886
SUMMARY:41st Annual Holiday Fair
CLASS:PUBLIC
DESCRIPTION:The 41st Annual Holiday Fair Fine Craft Show\, to be held Novem
 ber 1 &\n2\, 2025\, will feature a variety of artisans exhibiting and sell
 ing\ntheir work\, including jewelry\, glasswork\, ceramics\, mixed media\,
  and\ndecorative and wearable fiber creations. Patrons can stroll the camp
 us\nand find artists throughout the historic Homestead\, Chambers Studio\,
 \nand the Corkran and Tubbs galleries to select the perfect gifts for\nfam
 ily\, friends and themselves. AUCTION Take time to explore the\nevent's on
 line auction\, which can be viewed in the DeWitt Gallery\nduring the Holid
 ay Fair or anytime online. Participating event artists\nhave generously do
 nated a piece of their artwork to be auctioned off\,\nwith the proceeds su
 pporting RAL's exhibition and education programs.\nCheck back often as ite
 ms are added. REFRESHMENTS The Point Coffee\nHouse and Bake Shoppe will ha
 ve packaged\, takeaway breakfast and lunch\noptions\, available in the Chi
 ldren’s Studio. Dogfish Head will be\noffering craft beer in our 'Paynte
 r's Pub.' GENERAL ADMISSION TICKETS\nGeneral admission to the event begins
  Saturday\, November 1 and the\nentry fee of $5 per adult\, which supports
  our year-round exhibition\nand education programs\, permits entry to the 
 event all weekend. There\nis no charge for children under the age of 12. T
 ickets must be\npurchased at the door. Venue: Rehoboth Art League.
X-ALT-DESC;FMTTYPE=text/html:The 41st Annual Holiday Fair Fine Craft Show\,
  to be held November 1 & 2\, 2025\, will feature a variety of artisans exh
 ibiting and selling their work\, including jewelry\, glasswork\, ceramics\
 , mixed media\, and decorative and wearable fiber creations. Patrons can s
 troll the campus and find artists throughout the historic Homestead\, Cham
 bers Studio\, and the Corkran and Tubbs galleries to select the perfect gi
 fts for family\, friends and themselves. AUCTION Take time to explore the 
 event's online auction\, which can be viewed in the DeWitt Gallery during 
 the Holiday Fair or anytime online. Participating event artists have gener
 ously donated a piece of their artwork to be auctioned off\, with the proc
 eeds supporting RAL's exhibition and education programs. Check back often 
 as items are added. REFRESHMENTS The Point Coffee House and Bake Shoppe wi
 ll have packaged\, takeaway breakfast and lunch options\, available in the
  Children’s Studio. Dogfish Head will be offering craft beer in our 'Pay
 nter's Pub.' GENERAL ADMISSION TICKETS General admission to the event begi
 ns Saturday\, November 1 and the entry fee of $5 per adult\, which support
 s our year-round exhibition and education programs\, permits entry to the 
 event all weekend. There is no charge for children under the age of 12. Ti
 ckets must be purchased at the door. Venue: Rehoboth Art League.
X-MICROSOFT-CDO-ALLDAYEVENT:TRUE
DTSTAMP:20260422T091945Z
END:VEVENT
END:VCALENDAR