BEGIN:VCALENDAR
VERSION:2.0
PRODID:SoDel
X-WR-CALNAME:27th Annual Eastern Shore AFRAM Festival
BEGIN:VEVENT
UID:238602024-08-10
DTSTART:20240810T120000Z
SEQUENCE:0
TRANSP:OPAQUE
DTEND:20240810T220000Z
LOCATION:23669 Ross Station Road\nSeaford Delaware 19973
X-APPLE-STRUCTURED-LOCATION;VALUE=URI;X-ADDRESS=23669 Ross Station Road\nSe
 aford Delaware 19973;X-APPLE-RADIUS=49;X-TITLE=23669 Ross Station Road:geo
 :38.657299,-75.618775
GEO:38.657299;-75.618775
SUMMARY:27th Annual Eastern Shore AFRAM Festival
CLASS:PUBLIC
DESCRIPTION:The Eastern Shore AFRAM Festival is a signature event held year
 ly in\nSeaford\, DE to celebrate and share the culture\, history and commu
 nity\nof African Americans and the African Diaspora residing on the Easter
 n\nShore of the U.S. The event also serves as a venue for many nonprofit\n
 organizations which provide services to the communities of the Eastern\nSh
 ore. \n
X-ALT-DESC;FMTTYPE=text/html:<p>The Eastern Shore AFRAM Festival is a signa
 ture event held yearly in Seaford\, DE to celebrate and share the culture\
 , history and community of African Americans and the African Diaspora resi
 ding on the Eastern Shore of the U.S. The event also serves as a venue for
  many nonprofit organizations which provide services to the communities of
  the Eastern Shore.&nbsp\;</p>
DTSTAMP:20260421T102022Z
END:VEVENT
END:VCALENDAR