BEGIN:VCALENDAR
VERSION:2.0
PRODID:SoDel
X-WR-CALNAME:2026 Bug & Bud Festival
BEGIN:VEVENT
UID:348132026-04-25
DTSTART;VALUE=DATE:20260425
SEQUENCE:0
TRANSP:OPAQUE
DTEND;VALUE=DATE:20260426
LOCATION:17 North Walnut Street\nMilford Delaware 19963
X-APPLE-STRUCTURED-LOCATION;VALUE=URI;X-ADDRESS=17 North Walnut Street\nMil
 ford Delaware 19963;X-APPLE-RADIUS=49;X-TITLE=17 North Walnut Street:geo:3
 8.913843,-75.428027
GEO:38.913843;-75.428027
SUMMARY:2026 Bug & Bud Festival
CLASS:PUBLIC
DESCRIPTION:Milford\, DE — Downtown Milford will once again welcome resid
 ents and\nvisitors for one of the community’s most beloved spring tradit
 ions\,\nthe Annual Bug & Bud Festival\, taking place on Saturday\, April 2
 5\,\n2026\, from 9:00 a.m. to 4:00 p.m. Hosted by Downtown Milford\, Inc.\
 ,\nthe Bug & Bud Festival celebrates the arrival of spring with a full\nda
 y of family-friendly activities\, local shopping\, food\, and\nentertainme
 nt.\n\nThe event will feature over 100 vendors\, food trucks\, children’
 s\nentertainment\, live music\, and local businesses open throughout\nDown
 town\, creating a vibrant and festive atmosphere for the entire\ncommunity
 . “Bug & Bud is one of those special days where our entire\ncommunity co
 mes together to celebrate Milford\,” said Sadé Truiett\,\nCoordinator o
 f Downtown Milford.\n \n
X-ALT-DESC;FMTTYPE=text/html:<p><br />\nMilford\, DE &mdash\; Downtown Milf
 ord will once again welcome residents and visitors for one of the communit
 y&rsquo\;s most beloved spring traditions\, the Annual Bug &amp\; Bud Fest
 ival\, taking place on Saturday\, April 25\, 2026\, from 9:00 a.m. to 4:00
  p.m. Hosted by Downtown Milford\, Inc.\, the Bug &amp\; Bud Festival cele
 brates the arrival of spring with a full day of family-friendly activities
 \, local shopping\, food\, and entertainment.<br />\n<br />\nThe event wil
 l feature over 100 vendors\, food trucks\, children&rsquo\;s entertainment
 \, live music\, and local businesses open throughout Downtown\, creating a
  vibrant and festive atmosphere for the entire community. &ldquo\;Bug &amp
 \; Bud is one of those special days where our entire community comes toget
 her to celebrate Milford\,&rdquo\; said Sad&eacute\; Truiett\, Coordinator
  of Downtown Milford.<br />\n&nbsp\;</p>
X-MICROSOFT-CDO-ALLDAYEVENT:TRUE
DTSTAMP:20260423T163209Z
END:VEVENT
END:VCALENDAR