BEGIN:VCALENDAR
VERSION:2.0
PRODID:SoDel
X-WR-CALNAME:2025 Horseshoe Crab Hustle!
BEGIN:VEVENT
UID:293862025-11-09
DTSTART;VALUE=DATE:20251109
SEQUENCE:0
TRANSP:OPAQUE
DTEND;VALUE=DATE:20251110
SUMMARY:2025 Horseshoe Crab Hustle!
CLASS:PUBLIC
DESCRIPTION:The Horseshoe Crab Hustle is back for another run.  It's once 
 again\nhosted by Bethany Brewing Company\n[https://www.bethanybrewing.net
 /] to benefit the Delaware Center for\nthe Inland Bays [https://www.inla
 ndbays.org/] \, but this year it's a\n10k Mile Run and a 1.5 Mile Fun Wal
 k.  The event begins and ends at\nBethany Brewing Company and will primar
 ily take place on the trails of\nFresh Pond State Park.  Registrants will
  not only enjoy a fall\nrun/walk surrounded by the beauty of nature\, but 
 they will enjoy fresh\nbrewed craft beers\, tasty post-race fare\, fresh s
 hucked oysters\, live\nmusic\, raffles to benefit the Bays\, and loads of 
 fun all while\nsupporting the mission of the Center to protect\, restore\,
  and preserve\nthe Inland Bays.  The Center will also have information ta
 bles about\ntheir various projects & programs\, and you can learn all abou
 t how to\n'get on board with the bays.'  Race in one of the few 10k's lef
 t in\nthe State of Delaware for a great cause.\n
X-ALT-DESC;FMTTYPE=text/html:<p>The Horseshoe Crab Hustle is back for anoth
 er run.&nbsp\; It&#39\;s once again hosted by&nbsp\;<a href=\"https://www.
 bethanybrewing.net/\" rel=\"nofollow noopener noreferrer\" target=\"_blank
 \">Bethany Brewing Company</a>&nbsp\;to benefit the&nbsp\;<a href=\"https:
 //www.inlandbays.org/\" rel=\"nofollow noopener noreferrer\" target=\"_bla
 nk\">Delaware Center for the Inland Bays</a>&nbsp\;\, but this year it&#39
 \;s a 10k Mile Run and a 1.5 Mile Fun Walk.&nbsp\; The event begins and en
 ds at Bethany Brewing Company and will primarily take place on the trails 
 of Fresh Pond State Park.&nbsp\; Registrants will not only enjoy a fall ru
 n/walk surrounded by the beauty of nature\, but they will enjoy fresh brew
 ed craft beers\, tasty post-race fare\, fresh shucked oysters\, live music
 \, raffles to benefit the Bays\, and loads of fun all while supporting the
  mission of the Center to protect\, restore\, and preserve the Inland Bays
 .&nbsp\; The Center will also have information tables about their various 
 projects &amp\; programs\, and you can learn all about how to &#39\;get on
  board with the bays.&#39\; &nbsp\;Race in one of the few 10k&#39\;s left 
 in the State of Delaware for a great cause.</p>
X-MICROSOFT-CDO-ALLDAYEVENT:TRUE
DTSTAMP:20260420T090622Z
END:VEVENT
END:VCALENDAR