BEGIN:VCALENDAR
VERSION:2.0
PRODID:SoDel
X-WR-CALNAME:2025 Alpaca Festival
BEGIN:VEVENT
UID:292032025-09-21
DTSTART:20250921T140000Z
SEQUENCE:0
TRANSP:OPAQUE
DTEND:20250921T180000Z
LOCATION:32236 Omar Road\nFrankford Delaware 19945
X-APPLE-STRUCTURED-LOCATION;VALUE=URI;X-ADDRESS=32236 Omar Road\nFrankford 
 Delaware 19945;X-APPLE-RADIUS=49;X-TITLE=32236 Omar Road:geo:38.535643,-75
 .185887
GEO:38.535643;-75.185887
SUMMARY:2025 Alpaca Festival
CLASS:PUBLIC
DESCRIPTION:ALPACA FESTIVAL 2025 at Four Acres Living! Admission is free wh
 en you\nbring a nonperishable food item to be donated to the Food Bank of\
 nDelaware.\n\nVisit our 43 alpacas and enjoy a fun-filled day for all ages
 . Bring a\nchair but please leave your pets at home. We like the alpacas t
 o focus\non our human guests.\n\nEnjoy:\n\nFood by Taco Reho Little Italy 
 and Maureen's Ice Cream and Desserts\n\nLive\, authentic Andean music by C
 arlos Erazo and Ken Schleifer.\n\nHand four alpacas\n\nFiber art demonstra
 tions\n\nPony rides\n\nFace painting\n\nBalloon twisting\n\nShop our vendo
 rs selling handmade\, homemade and home grown items such\nas Stag Run Farm
 \, Longridge Gardens\, Desserts by Roger\, Twain & Abel\,\ncraft items and
  wearables by local knitters\, spinners and felters.\n
X-ALT-DESC;FMTTYPE=text/html:<p>ALPACA FESTIVAL 2025 at Four Acres Living! 
 Admission is free when you bring a nonperishable food item to be donated t
 o the Food Bank of Delaware.</p>\n\n<p>Visit our 43 alpacas and enjoy a fu
 n-filled day for all ages. Bring a chair but please leave your pets at hom
 e. We like the alpacas to focus on our human guests.</p>\n\n<p>Enjoy:</p>\
 n\n<p>Food by Taco Reho Little Italy and Maureen&#39\;s Ice Cream and Dess
 erts</p>\n\n<p>Live\, authentic Andean music by Carlos Erazo and Ken Schle
 ifer.</p>\n\n<p>Hand four alpacas</p>\n\n<p>Fiber art demonstrations</p>\n
 \n<p>Pony rides</p>\n\n<p>Face painting</p>\n\n<p>Balloon twisting</p>\n\n
 <p>Shop our vendors selling handmade\, homemade and home grown items such 
 as Stag Run Farm\, Longridge Gardens\, Desserts by Roger\, Twain &amp\; Ab
 el\, craft items and wearables by local knitters\, spinners and felters.</
 p>
DTSTAMP:20260425T170524Z
END:VEVENT
END:VCALENDAR