BEGIN:VCALENDAR
VERSION:2.0
PRODID:SoDel
X-WR-CALNAME:2024 KARMA FEST
BEGIN:VEVENT
UID:248772024-08-03
DTSTART;VALUE=DATE:20240803
SEQUENCE:0
TRANSP:OPAQUE
DTEND;VALUE=DATE:20240804
LOCATION:29763 Eagle Crest Road\nMilton Delaware 19968
X-APPLE-STRUCTURED-LOCATION;VALUE=URI;X-ADDRESS=29763 Eagle Crest Road\nMil
 ton Delaware 19968;X-APPLE-RADIUS=49;X-TITLE=29763 Eagle Crest Road:geo:38
 .776104,-75.230072
GEO:38.776104;-75.230072
SUMMARY:2024 KARMA FEST
CLASS:PUBLIC
DESCRIPTION: \n\nOUR THIRD ANNUAL KarmaFest Summer Sun Fest at Hudson Fiel
 ds takes\nplace on August 3rd – 4th\, 2024.  THIS SUMMER SUN FEST IS A
 T A\nPERFECT LOCATION FOR KARMAFEST.  Near The Beach\, in Delaware ~ ju
 st\na few miles north of Milton\, entering the Lewes and Rehoboth Beach\na
 reas.  Hudson Fields is a very popular venue\, highly visible from\nRoute
  1\, Highway One\, the main entranceway to the Delaware and\nMaryland Beac
 hes. Hudson Fields hosts large concerts and VERY\nSUCCESSFUL festivals.  
 This venue is a blessing for KarmaFest! \nWe’ll have music and yoga and
  free lectures\, special workshops\, drum\ncircles\, yum food\, and amazin
 g souls\, INCLUDING YOU! Let us make our\nThird Annual Summer Sun at Hudso
 n Fields another great success as we\ncontinue to bring KarmaFest to this 
 welcoming state and location! \nHaving YOU there helps make this happen!
  \n
X-ALT-DESC;FMTTYPE=text/html:<p>&nbsp\;</p>\n\n<p>OUR THIRD ANNUAL KarmaFes
 t Summer Sun Fest at Hudson Fields takes place on August 3rd &ndash\; 4th\
 , 2024.&nbsp\;&nbsp\;<strong>THIS Summer Sun Fest is at a PERFECT Location
  FOR KARMAFEST.</strong>&nbsp\;&nbsp\;Near The Beach\, in Delaware&nbsp\;~
  just a few miles north of Milton\, entering the Lewes and Rehoboth Beach 
 areas.&nbsp\; Hudson Fields is a very popular venue\, highly visible from 
 Route 1\, Highway One\, the main entranceway to the Delaware and Maryland 
 Beaches. Hudson Fields hosts large concerts and VERY SUCCESSFUL festivals.
 &nbsp\; This venue is a blessing for KarmaFest!&nbsp\; We&rsquo\;ll have m
 usic and yoga and free lectures\, special workshops\, drum circles\, yum f
 ood\, and amazing souls\, INCLUDING YOU! Let us make our Third Annual Summ
 er Sun at Hudson Fields another great success as we continue to bring Karm
 aFest to this welcoming state and location!&nbsp\; Having YOU there helps 
 make this happen!&nbsp\;</p>
X-MICROSOFT-CDO-ALLDAYEVENT:TRUE
DTSTAMP:20260424T170934Z
END:VEVENT
END:VCALENDAR