BEGIN:VCALENDAR
VERSION:2.0
PRODID:SoDel
X-WR-CALNAME:2022 Rehoboth Beach Christmas Parade
BEGIN:VEVENT
UID:155442022-12-05
DTSTART:20221205T230000Z
SEQUENCE:0
TRANSP:OPAQUE
DTEND:20221206T020000Z
SUMMARY:2022 Rehoboth Beach Christmas Parade
CLASS:PUBLIC
DESCRIPTION:The 2022 Rehoboth Beach Hometown Christmas Parade will be prese
 nted by\nthe Rehoboth Beach Volunteer Fire Company. Our goal is to make th
 e\n2022 Rehoboth Beach Volunteer Fire Company Hometown Christmas Parade\nt
 he largest we’ve ever had. If you know any other groups who are\ninteres
 ted in participating\, please feel free to forward the attached\napplicati
 on to them. \n\nAll parade participants and attendees are invited to the 
 Rehoboth\nBeach Volunteer Fire Station Museum after the Parade for SANTA
 ’S\nCHRISTMAS PARTY for refreshments\, and where children can visit San
 ta\nClaus and receive a small gift.\n
X-ALT-DESC;FMTTYPE=text/html:<p>The 2022 Rehoboth Beach Hometown Christmas 
 Parade will be presented by the Rehoboth Beach Volunteer Fire Company. Our
  goal is to make the 2022 Rehoboth Beach Volunteer Fire Company Hometown C
 hristmas Parade the largest we&rsquo\;ve ever had. If you know any other g
 roups who are interested in participating\, please feel free to forward th
 e attached application to them.&nbsp\;</p>\n\n<p>All parade participants a
 nd attendees are invited to the Rehoboth Beach Volunteer Fire Station Muse
 um after the Parade for&nbsp\;<strong><u>SANTA&rsquo\;S CHRISTMAS PARTY</u
 ></strong>&nbsp\;for refreshments\, and where children can visit Santa Cla
 us and receive a small gift.</p>
DTSTAMP:20260426T040306Z
END:VEVENT
END:VCALENDAR