BEGIN:VCALENDAR
VERSION:2.0
PRODID:SoDel
X-WR-CALNAME:11th Annual Bethany Beach Poseidon Festival
BEGIN:VEVENT
UID:350212026-05-22
DTSTART;VALUE=DATE:20260522
SEQUENCE:0
TRANSP:OPAQUE
DTEND;VALUE=DATE:20260523
SUMMARY:11th Annual Bethany Beach Poseidon Festival
CLASS:PUBLIC
DESCRIPTION:CELEBRATE THE SEA AND GET VALUABLE INFORMATION TO HELP PREPARE 
 FOR\nCOASTAL EMERGENCIES. \n\nENJOY LIVE MUSIC\, PIRATES\, MERMAIDS\, MAR
 INE SCIENTISTS\, AND MORE IN A\nBEAUTIFUL BEACHFRONT LOCATION!\n\n \n\n
X-ALT-DESC;FMTTYPE=text/html:<h3>Celebrate the sea and get valuable informa
 tion to help prepare for coastal emergencies.&nbsp\;</h3>\n\n<h3>Enjoy liv
 e music\, pirates\, mermaids\, marine scientists\, and more in a beautiful
  beachfront location!</h3>\n\n<h1>&nbsp\;</h1>
X-MICROSOFT-CDO-ALLDAYEVENT:TRUE
DTSTAMP:20260420T171220Z
END:VEVENT
END:VCALENDAR